{"text_format":"1","workbook":"xlsx","n_sheets":3,"sheets":["Eingabe - Diagramm","Dropdown-Daten","Berechnungen"],"not_rendered":{"charts":2,"images":1,"macros":1,"external_links":0,"defined_names":15,"comments":1,"pivot_tables":0},"unopened":[],"bounds":{"document_bytes":16777216,"sheet_cells":100000,"rows_first":2000,"rows_last":500,"rows_between":2000,"halvings":0,"cell_chars":16384,"cell_head_chars":4096},"cells_cut":0,"cells_raw":0,"read":"whole","date_system":"1900"}

{"sheet":"Eingabe - Diagramm","index":0,"n_rows":57,"n_cols":12,"rows_kept":57,"cut":false,"hidden":false,"merged":[[12,1,13,1],[50,1,51,1],[1,1,1,10],[1,11,1,12]]}
[]
[null,"Kanton St.Gallen\nSicherheits- und Justizdepartement\n\nStrassenverkehrs- und Schifffahrtsamt\nUnfallanalysen"]
[null,"Beurteilung von Abstandsmessungen durch die Polizei:"]
[]
[null,"Eingaben:"]
[]
[null,"Fahrzeug vorne:",null,null,null,null,null,"Fahrzeug hinten:"]
[]
[null,"Geschwindigkeit:",null,null,null,null,null,"Abstand:"]
[null,"Fahrzeugart:",null,null,null,null,null,"Fahrzeugart:"]
[null,"Betriebsgewicht:",null,null,1000,"kg",null,"Betriebsgewicht:",null,null,1000,"kg"]
[]
[null,"Fahrbahnzustand:"]
[]
[null,null,null,null,null,"Reaktionszeit: (für beide Fahrzeuglenker gleich)",null,null,null,null,1,"s"]
[]
[null,{"$f":"IF(Berechnungen!R89=TRUE,\"Kein Aufprall!\",\"Zusammenstoss!\")","v":"Kein Aufprall!"}]
[]
[]
[]
[]
[null,"Resultate:",null,null,null,"entspricht Abstandszeit:",null,null,null,{"$f":"('Dropdown-Daten'!H51/('Dropdown-Daten'!H50/3.6))","v":1.8635294117647059},"s"]
[]
[]
[]
[]
[]
[]
[]
[]
[]
[]
[]
[]
[]
[]
[]
[]
[]
[]
[]
[]
[]
[]
[]
[]
[]
[]
[]
[]
[null,"Aufprallgeschwindigkeit:",null,null,"Fahrz. 1",null,"Fahrz. 2","Differenz"]
[null,null,null,null,{"$f":"Berechnungen!Q87","v":0},null,{"$f":"Berechnungen!S87","v":0},{"$f":"G52-E52","v":0}]
[]
[]
[]
[]
[null,"© Erich Peter, Dipl.-Ing. FH / Raphael Rey / 2011 ©"]

{"sheet":"Dropdown-Daten","index":1,"n_rows":66,"n_cols":15,"rows_kept":66,"cut":false,"hidden":true,"merged":[]}
[null,30,null,2,null,"Personenwagen ",null,"Trocken"]
[null,35,null,4,null,"Lieferwagen",null,"Nass"]
[null,40,null,6,null,"Lastwagen"]
[null,45,null,8]
[null,50,null,10]
[null,55,null,12]
[null,60,null,14]
[null,65,null,16]
[null,70,null,18]
[null,75,null,20]
[null,80,null,22]
[null,85,null,24]
[null,90,null,26]
[null,95,null,28]
[null,100,null,30]
[null,105,null,32]
[null,110,null,34]
[null,115,null,36]
[null,120,null,38]
[null,125,null,40]
[null,130,null,42]
[null,135,null,44]
[null,140,null,46]
[null,145,null,48]
[null,150,null,50]
[null,155,null,52]
[null,160,null,54]
[null,165,null,56]
[null,170,null,58]
[null,175,null,60]
[null,180,null,62]
[null,null,null,64]
[null,null,null,66]
[null,null,null,68]
[null,null,null,70]
[]
[]
[]
[]
[]
[]
[]
[]
[]
[]
[null,null,null,null,null,null,null,null,null,null,null,"Erstes Fahrzeug"]
[]
[null,null,null,null,null,null,null,null,null,null,null,"PKW","Lieferwagen","LKW"]
[null,"Zellverknüpfungen",null,"Fahrz. 1",null,"Fahrz. 2",null,null,null,null,"t",{"$f":"AND(D53=1,D52=1)","v":false},{"$f":"AND(D53=1,D52=2)","v":false},{"$f":"AND(D53=1,D52=3)","v":false}]
[null,"Geschw.",null,12,null,null,null,{"$f":"B1+(D50-1)*5","v":85},null,null,"n",{"$f":"AND(D52=1,D53=2)","v":false},{"$f":"AND(D52=2,D53=2)","v":true},{"$f":"AND(D53=2,D52=3)","v":false}]
[null,"Abstd.",null,null,null,22,null,{"$f":"D2+(F51-2)*2","v":44}]
[null,"Fahrz.",null,2,null,1]
[null,"Fahrbahn",null,2,null,null,null,null,null,null,"t",{"$f":"IF(L49=TRUE,D59,\"\")","v":""},{"$f":"IF(M49=TRUE,D60,\"\")","v":""},{"$f":"IF(N49=TRUE,D61,\"\")","v":""}]
[null,null,null,null,null,null,null,null,null,null,"n",{"$f":"IF(L50=TRUE,F59,\"\")","v":""},{"$f":"IF(M50=TRUE,F60,\"\")","v":5.5},{"$f":"IF(N50=TRUE,F61,\"\")","v":""},"Verzögerung"]
[null,null,null,null,null,null,null,null,null,null,null,{"$f":"SUM(L53:L54)","v":0},{"$f":"SUM(M53:M54)","v":5.5},{"$f":"SUM(N53:N54)","v":0},{"$f":"SUM(L55:N55)","v":5.5}]
[]
[null,null,null,null,null,null,null,null,null,null,null,"Zweites Fahrzeug"]
[null,"Verzögerung",null,"trocken",null,"nass"]
[null,"PW ",null,7.5,null,6.5,null,null,null,null,null,"PKW","Lieferwagen","LKW"]
[null,"Lieferwagen",null,6.5,null,5.5,null,null,null,null,"t",{"$f":"AND(D53=1,F52=1)","v":false},{"$f":"AND(F52=2,D53=1)","v":false},{"$f":"AND(F52=3,D53=1)","v":false}]
[null,"LKW",null,5.5,null,4.5,null,null,null,null,"n",{"$f":"AND(D53=2,F52=1)","v":true},{"$f":"AND(F52=2,D53=2)","v":false},{"$f":"AND(F52=3,D53=2)","v":false}]
[]
[]
[null,null,null,null,null,null,null,null,null,null,"t",{"$f":"IF(L60=TRUE,D59,\"\")","v":""},{"$f":"IF(M60=TRUE,D60,\"\")","v":""},{"$f":"IF(N60=TRUE,D61,\"\")","v":""}]
[null,null,null,null,null,null,null,null,null,null,"n",{"$f":"IF(L61=TRUE,F59,\"\")","v":6.5},{"$f":"IF(M61=TRUE,F60,\"\")","v":""},{"$f":"IF(N61=TRUE,F61,\"\")","v":""},"Verzögerung"]
[null,null,null,null,null,null,null,null,null,null,null,{"$f":"SUM(L64:L65)","v":6.5},{"$f":"SUM(M64:M65)","v":0},{"$f":"SUM(N64:N65)","v":0},{"$f":"SUM(L66:N66)","v":6.5}]

{"sheet":"Berechnungen","index":2,"n_rows":175,"n_cols":22,"rows_kept":175,"cut":false,"hidden":true,"merged":[]}
[null,"Berechnungsdaten"]
[]
[null,"Fahrzeug 1 (vorne)",null,null,null,null,"Fahrzeug 2 (hinten)"]
[null,null,null,null,null,null,null,null,null,null,null,null,null,null,"Aufprallgeschwindigkeit Fahrz. 1",null,null,"Aufprallgeschwindigkeit Fahrz. 2"]
[null,"v [km/h]","Weg [m]",null,"Zeit [s]","Abstand [m]","v [km/h]","Weg [m]"]
[null,{"$f":"'Dropdown-Daten'!$H$50","v":85},0,null,0,{"$f":"'Dropdown-Daten'!$H$51","v":44},{"$f":"IF('Eingabe - Diagramm'!$K$15>=E6,'Dropdown-Daten'!$H$50,(('Dropdown-Daten'!$H$50/3.6)-('Dropdown-Daten'!$O$66*(E6-'Eingabe - Diagramm'!$K$15)))*3.6)","v":85},{"$f":"-'Dropdown-Daten'!H51","v":-44},null,null,{"$f":"IF(G6>0,H6,K5)","v":-44},null,null,{"$f":"IF(O6=FALSE,6)","v":6},{"$f":"AND(F6<0)","v":false},{"$f":"AND(O6=TRUE)","v":false},{"$f":"IF(P6,B6,\"\")","v":""},{"$f":"AND(O6=TRUE)","v":false},{"$f":"IF(R6=TRUE,G6,\"\")","v":""},null,{"$f":"IF(P6=TRUE,E5,\"\")","v":""},{"$f":"IF(P6=TRUE,H5,\"\")","v":""}]
[null,{"$f":"IF(((B$6/3.6)-('Dropdown-Daten'!$O$55*E7))*3.6>0,((B$6/3.6)-('Dropdown-Daten'!$O$55*E7))*3.6,0)","v":83.02},{"$f":"IF(B7=0,C6,(E7/2*(B7/3.6+'Dropdown-Daten'!$H$50/3.6)))","v":2.3336111111111109},null,0.1,{"$f":"C7-H7","v":43.972499999999997},{"$f":"IF('Eingabe - Diagramm'!$K$15>=E7,'Dropdown-Daten'!$H$50,(('Dropdown-Daten'!$H$50/3.6)-('Dropdown-Daten'!$O$66*(E7-'Eingabe - Diagramm'!$K$15)))*3.6)","v":85},{"$f":"IF(G7>0,L7,H6)","v":-41.638888888888886},null,null,{"$f":"IF(G7>0,H7,K6)","v":-41.638888888888886},{"$f":"IF('Eingabe - Diagramm'!$K$15>=E7,E7*(G7/3.6)+H$6,(G7/3.6+G6/3.6)/2*(E7-E6)+H6)","v":-41.638888888888886},null,{"$f":"IF(O7=FALSE,N6+1)","v":7},{"$f":"AND(F7<0)","v":false},{"$f":"AND(O7=TRUE,O6=FALSE)","v":false},{"$f":"IF(P7,B7,\"\")","v":""},{"$f":"AND(O7=TRUE,O6=FALSE)","v":false},{"$f":"IF(R7=TRUE,G7,\"\")","v":""},null,"",""]
[null,{"$f":"IF(((B$6/3.6)-('Dropdown-Daten'!$O$55*E8))*3.6>0,((B$6/3.6)-('Dropdown-Daten'!$O$55*E8))*3.6,0)","v":81.039999999999992},{"$f":"IF(B8=0,C7,(E8/2*(B8/3.6+'Dropdown-Daten'!$H$50/3.6)))","v":4.612222222222222},null,0.2,{"$f":"C8-H8","v":43.89},{"$f":"IF('Eingabe - Diagramm'!$K$15>=E8,'Dropdown-Daten'!$H$50,(('Dropdown-Daten'!$H$50/3.6)-('Dropdown-Daten'!$O$66*(E8-'Eingabe - Diagramm'!$K$15)))*3.6)","v":85},{"$f":"IF(G8>0,L8,H7)","v":-39.277777777777779},null,null,-39.277777777777779,{"$f":"IF('Eingabe - Diagramm'!$K$15>=E8,E8*(G8/3.6)+H$6,(G8/3.6+G7/3.6)/2*(E8-E7)+H7)","v":-39.277777777777779},null,{"$f":"IF(O8=FALSE,N7+1)","v":8},false,{"$f":"AND(O8=TRUE,O7=FALSE)","v":false},"",{"$f":"AND(O8=TRUE,O7=FALSE)","v":false},"",null,"",""]
[null,{"$f":"IF(((B$6/3.6)-('Dropdown-Daten'!$O$55*E9))*3.6>0,((B$6/3.6)-('Dropdown-Daten'!$O$55*E9))*3.6,0)","v":79.06},{"$f":"IF(B9=0,C8,(E9/2*(B9/3.6+'Dropdown-Daten'!$H$50/3.6)))","v":6.8358333333333334},null,0.3,43.752499999999998,{"$f":"IF('Eingabe - Diagramm'!$K$15>=E9,'Dropdown-Daten'!$H$50,(('Dropdown-Daten'!$H$50/3.6)-('Dropdown-Daten'!$O$66*(E9-'Eingabe - Diagramm'!$K$15)))*3.6)","v":85},-36.916666666666664,null,null,-36.916666666666664,{"$f":"IF('Eingabe - Diagramm'!$K$15>=E9,E9*(G9/3.6)+H$6,(G9/3.6+G8/3.6)/2*(E9-E8)+H8)","v":-36.916666666666664},null,9,false,false,"",false,"",null,"",""]
[null,{"$f":"IF(((B$6/3.6)-('Dropdown-Daten'!$O$55*E10))*3.6>0,((B$6/3.6)-('Dropdown-Daten'!$O$55*E10))*3.6,0)","v":77.08},{"$f":"IF(B10=0,C9,(E10/2*(B10/3.6+'Dropdown-Daten'!$H$50/3.6)))","v":9.0044444444444451},null,0.4,43.56,{"$f":"IF('Eingabe - Diagramm'!$K$15>=E10,'Dropdown-Daten'!$H$50,(('Dropdown-Daten'!$H$50/3.6)-('Dropdown-Daten'!$O$66*(E10-'Eingabe - Diagramm'!$K$15)))*3.6)","v":85},-34.555555555555557,null,null,-34.555555555555557,{"$f":"IF('Eingabe - Diagramm'!$K$15>=E10,E10*(G10/3.6)+H$6,(G10/3.6+G9/3.6)/2*(E10-E9)+H9)","v":-34.555555555555557},null,10,false,false,"",false,"",null,"",""]
[null,{"$f":"IF(((B$6/3.6)-('Dropdown-Daten'!$O$55*E11))*3.6>0,((B$6/3.6)-('Dropdown-Daten'!$O$55*E11))*3.6,0)","v":75.099999999999994},{"$f":"IF(B11=0,C10,(E11/2*(B11/3.6+'Dropdown-Daten'!$H$50/3.6)))","v":11.118055555555555},null,0.5,43.3125,{"$f":"IF('Eingabe - Diagramm'!$K$15>=E11,'Dropdown-Daten'!$H$50,(('Dropdown-Daten'!$H$50/3.6)-('Dropdown-Daten'!$O$66*(E11-'Eingabe - Diagramm'!$K$15)))*3.6)","v":85},-32.194444444444443,null,null,-32.194444444444443,{"$f":"IF('Eingabe - Diagramm'!$K$15>=E11,E11*(G11/3.6)+H$6,(G11/3.6+G10/3.6)/2*(E11-E10)+H10)","v":-32.194444444444443},null,11,false,false,"",false,"",null,"",""]
[null,{"$f":"IF(((B$6/3.6)-('Dropdown-Daten'!$O$55*E12))*3.6>0,((B$6/3.6)-('Dropdown-Daten'!$O$55*E12))*3.6,0)","v":73.12},{"$f":"IF(B12=0,C11,(E12/2*(B12/3.6+'Dropdown-Daten'!$H$50/3.6)))","v":13.176666666666668},null,0.6,43.010000000000005,{"$f":"IF('Eingabe - Diagramm'!$K$15>=E12,'Dropdown-Daten'!$H$50,(('Dropdown-Daten'!$H$50/3.6)-('Dropdown-Daten'!$O$66*(E12-'Eingabe - Diagramm'!$K$15)))*3.6)","v":85},-29.833333333333336,null,null,-29.833333333333336,{"$f":"IF('Eingabe - Diagramm'!$K$15>=E12,E12*(G12/3.6)+H$6,(G12/3.6+G11/3.6)/2*(E12-E11)+H11)","v":-29.833333333333336},null,12,false,false,"",false,"",null,"",""]
[null,{"$f":"IF(((B$6/3.6)-('Dropdown-Daten'!$O$55*E13))*3.6>0,((B$6/3.6)-('Dropdown-Daten'!$O$55*E13))*3.6,0)","v":71.140000000000015},{"$f":"IF(B13=0,C12,(E13/2*(B13/3.6+'Dropdown-Daten'!$H$50/3.6)))","v":15.180277777777778},null,0.7,42.652500000000003,{"$f":"IF('Eingabe - Diagramm'!$K$15>=E13,'Dropdown-Daten'!$H$50,(('Dropdown-Daten'!$H$50/3.6)-('Dropdown-Daten'!$O$66*(E13-'Eingabe - Diagramm'!$K$15)))*3.6)","v":85},-27.472222222222225,null,null,-27.472222222222225,{"$f":"IF('Eingabe - Diagramm'!$K$15>=E13,E13*(G13/3.6)+H$6,(G13/3.6+G12/3.6)/2*(E13-E12)+H12)","v":-27.472222222222225},null,13,false,false,"",false,"",null,"",""]
[null,{"$f":"IF(((B$6/3.6)-('Dropdown-Daten'!$O$55*E14))*3.6>0,((B$6/3.6)-('Dropdown-Daten'!$O$55*E14))*3.6,0)","v":69.16},{"$f":"IF(B14=0,C13,(E14/2*(B14/3.6+'Dropdown-Daten'!$H$50/3.6)))","v":17.128888888888891},null,0.8,42.24,{"$f":"IF('Eingabe - Diagramm'!$K$15>=E14,'Dropdown-Daten'!$H$50,(('Dropdown-Daten'!$H$50/3.6)-('Dropdown-Daten'!$O$66*(E14-'Eingabe - Diagramm'!$K$15)))*3.6)","v":85},-25.111111111111111,null,null,-25.111111111111111,{"$f":"IF('Eingabe - Diagramm'!$K$15>=E14,E14*(G14/3.6)+H$6,(G14/3.6+G13/3.6)/2*(E14-E13)+H13)","v":-25.111111111111111},null,14,false,false,"",false,"",null,"",""]
[null,{"$f":"IF(((B$6/3.6)-('Dropdown-Daten'!$O$55*E15))*3.6>0,((B$6/3.6)-('Dropdown-Daten'!$O$55*E15))*3.6,0)","v":67.180000000000007},{"$f":"IF(B15=0,C14,(E15/2*(B15/3.6+'Dropdown-Daten'!$H$50/3.6)))","v":19.022500000000001},null,0.9,41.772500000000001,{"$f":"IF('Eingabe - Diagramm'!$K$15>=E15,'Dropdown-Daten'!$H$50,(('Dropdown-Daten'!$H$50/3.6)-('Dropdown-Daten'!$O$66*(E15-'Eingabe - Diagramm'!$K$15)))*3.6)","v":85},-22.75,null,null,-22.75,{"$f":"IF('Eingabe - Diagramm'!$K$15>=E15,E15*(G15/3.6)+H$6,(G15/3.6+G14/3.6)/2*(E15-E14)+H14)","v":-22.75},null,15,false,false,"",false,"",null,"",""]
[null,{"$f":"IF(((B$6/3.6)-('Dropdown-Daten'!$O$55*E16))*3.6>0,((B$6/3.6)-('Dropdown-Daten'!$O$55*E16))*3.6,0)","v":65.2},{"$f":"IF(B16=0,C15,(E16/2*(B16/3.6+'Dropdown-Daten'!$H$50/3.6)))","v":20.861111111111111},null,1,41.25,{"$f":"IF('Eingabe - Diagramm'!$K$15>=E16,'Dropdown-Daten'!$H$50,(('Dropdown-Daten'!$H$50/3.6)-('Dropdown-Daten'!$O$66*(E16-'Eingabe - Diagramm'!$K$15)))*3.6)","v":85},-20.388888888888889,null,null,-20.388888888888889,{"$f":"IF('Eingabe - Diagramm'!$K$15>=E16,E16*(G16/3.6)+H$6,(G16/3.6+G15/3.6)/2*(E16-E15)+H15)","v":-20.388888888888889},null,16,false,false,"",false,"",null,"",""]
[null,{"$f":"IF(((B$6/3.6)-('Dropdown-Daten'!$O$55*E17))*3.6>0,((B$6/3.6)-('Dropdown-Daten'!$O$55*E17))*3.6,0)","v":63.22},{"$f":"IF(B17=0,C16,(E17/2*(B17/3.6+'Dropdown-Daten'!$H$50/3.6)))","v":22.644722222222221},null,1.1000000000000001,40.704999999999998,{"$f":"IF('Eingabe - Diagramm'!$K$15>=E17,'Dropdown-Daten'!$H$50,(('Dropdown-Daten'!$H$50/3.6)-('Dropdown-Daten'!$O$66*(E17-'Eingabe - Diagramm'!$K$15)))*3.6)","v":82.66},-18.060277777777777,null,null,-18.060277777777777,{"$f":"IF('Eingabe - Diagramm'!$K$15>=E17,E17*(G17/3.6)+H$6,(G17/3.6+G16/3.6)/2*(E17-E16)+H16)","v":-18.060277777777777},null,17,false,false,"",false,"",null,"",""]
[null,{"$f":"IF(((B$6/3.6)-('Dropdown-Daten'!$O$55*E18))*3.6>0,((B$6/3.6)-('Dropdown-Daten'!$O$55*E18))*3.6,0)","v":61.240000000000009},{"$f":"IF(B18=0,C17,(E18/2*(B18/3.6+'Dropdown-Daten'!$H$50/3.6)))","v":24.373333333333331},null,1.2,40.17,{"$f":"IF('Eingabe - Diagramm'!$K$15>=E18,'Dropdown-Daten'!$H$50,(('Dropdown-Daten'!$H$50/3.6)-('Dropdown-Daten'!$O$66*(E18-'Eingabe - Diagramm'!$K$15)))*3.6)","v":80.319999999999993},-15.79666666666667,null,null,-15.79666666666667,{"$f":"IF('Eingabe - Diagramm'!$K$15>=E18,E18*(G18/3.6)+H$6,(G18/3.6+G17/3.6)/2*(E18-E17)+H17)","v":-15.79666666666667},null,18,false,false,"",false,"",null,"",""]
[null,{"$f":"IF(((B$6/3.6)-('Dropdown-Daten'!$O$55*E19))*3.6>0,((B$6/3.6)-('Dropdown-Daten'!$O$55*E19))*3.6,0)","v":59.259999999999991},{"$f":"IF(B19=0,C18,(E19/2*(B19/3.6+'Dropdown-Daten'!$H$50/3.6)))","v":26.046944444444446},null,1.3,39.645000000000003,{"$f":"IF('Eingabe - Diagramm'!$K$15>=E19,'Dropdown-Daten'!$H$50,(('Dropdown-Daten'!$H$50/3.6)-('Dropdown-Daten'!$O$66*(E19-'Eingabe - Diagramm'!$K$15)))*3.6)","v":77.98},-13.598055555555558,null,null,-13.598055555555558,{"$f":"IF('Eingabe - Diagramm'!$K$15>=E19,E19*(G19/3.6)+H$6,(G19/3.6+G18/3.6)/2*(E19-E18)+H18)","v":-13.598055555555558},null,19,false,false,"",false,"",null,"",""]
[null,{"$f":"IF(((B$6/3.6)-('Dropdown-Daten'!$O$55*E20))*3.6>0,((B$6/3.6)-('Dropdown-Daten'!$O$55*E20))*3.6,0)","v":57.28},{"$f":"IF(B20=0,C19,(E20/2*(B20/3.6+'Dropdown-Daten'!$H$50/3.6)))","v":27.665555555555557},null,1.4,{"$f":"C20-H20","v":39.13000000000001},{"$f":"IF('Eingabe - Diagramm'!$K$15>=E20,'Dropdown-Daten'!$H$50,(('Dropdown-Daten'!$H$50/3.6)-('Dropdown-Daten'!$O$66*(E20-'Eingabe - Diagramm'!$K$15)))*3.6)","v":75.640000000000015},-11.46444444444445,null,null,-11.46444444444445,{"$f":"IF('Eingabe - Diagramm'!$K$15>=E20,E20*(G20/3.6)+H$6,(G20/3.6+G19/3.6)/2*(E20-E19)+H19)","v":-11.46444444444445},null,20,false,false,"",false,"",null,"",""]
[null,{"$f":"IF(((B$6/3.6)-('Dropdown-Daten'!$O$55*E21))*3.6>0,((B$6/3.6)-('Dropdown-Daten'!$O$55*E21))*3.6,0)","v":55.3},{"$f":"IF(B21=0,C20,(E21/2*(B21/3.6+'Dropdown-Daten'!$H$50/3.6)))","v":29.229166666666664},null,1.5,38.625,{"$f":"IF('Eingabe - Diagramm'!$K$15>=E21,'Dropdown-Daten'!$H$50,(('Dropdown-Daten'!$H$50/3.6)-('Dropdown-Daten'!$O$66*(E21-'Eingabe - Diagramm'!$K$15)))*3.6)","v":73.3},-9.3958333333333357,null,null,-9.3958333333333357,{"$f":"IF('Eingabe - Diagramm'!$K$15>=E21,E21*(G21/3.6)+H$6,(G21/3.6+G20/3.6)/2*(E21-E20)+H20)","v":-9.3958333333333357},null,21,false,false,"",false,"",null,"",""]
[null,{"$f":"IF(((B$6/3.6)-('Dropdown-Daten'!$O$55*E22))*3.6>0,((B$6/3.6)-('Dropdown-Daten'!$O$55*E22))*3.6,0)","v":53.32},{"$f":"IF(B22=0,C21,(E22/2*(B22/3.6+'Dropdown-Daten'!$H$50/3.6)))","v":30.737777777777776},null,1.6,38.129999999999995,{"$f":"IF('Eingabe - Diagramm'!$K$15>=E22,'Dropdown-Daten'!$H$50,(('Dropdown-Daten'!$H$50/3.6)-('Dropdown-Daten'!$O$66*(E22-'Eingabe - Diagramm'!$K$15)))*3.6)","v":70.959999999999994},-7.3922222222222231,null,null,-7.3922222222222231,{"$f":"IF('Eingabe - Diagramm'!$K$15>=E22,E22*(G22/3.6)+H$6,(G22/3.6+G21/3.6)/2*(E22-E21)+H21)","v":-7.3922222222222231},null,22,false,false,"",false,"",null,"",""]
[null,{"$f":"IF(((B$6/3.6)-('Dropdown-Daten'!$O$55*E23))*3.6>0,((B$6/3.6)-('Dropdown-Daten'!$O$55*E23))*3.6,0)","v":51.34},{"$f":"IF(B23=0,C22,(E23/2*(B23/3.6+'Dropdown-Daten'!$H$50/3.6)))","v":32.191388888888888},null,1.7,37.645000000000003,{"$f":"IF('Eingabe - Diagramm'!$K$15>=E23,'Dropdown-Daten'!$H$50,(('Dropdown-Daten'!$H$50/3.6)-('Dropdown-Daten'!$O$66*(E23-'Eingabe - Diagramm'!$K$15)))*3.6)","v":68.62},-5.4536111111111145,null,null,-5.4536111111111145,{"$f":"IF('Eingabe - Diagramm'!$K$15>=E23,E23*(G23/3.6)+H$6,(G23/3.6+G22/3.6)/2*(E23-E22)+H22)","v":-5.4536111111111145},null,23,false,false,"",false,"",null,"",{"$f":"IF(P23=TRUE,H22,\"\")","v":""}]
[null,{"$f":"IF(((B$6/3.6)-('Dropdown-Daten'!$O$55*E24))*3.6>0,((B$6/3.6)-('Dropdown-Daten'!$O$55*E24))*3.6,0)","v":49.36},{"$f":"IF(B24=0,C23,(E24/2*(B24/3.6+'Dropdown-Daten'!$H$50/3.6)))","v":33.590000000000003},null,1.8,37.17,{"$f":"IF('Eingabe - Diagramm'!$K$15>=E24,'Dropdown-Daten'!$H$50,(('Dropdown-Daten'!$H$50/3.6)-('Dropdown-Daten'!$O$66*(E24-'Eingabe - Diagramm'!$K$15)))*3.6)","v":66.28},-3.5800000000000014,null,null,-3.5800000000000014,{"$f":"IF('Eingabe - Diagramm'!$K$15>=E24,E24*(G24/3.6)+H$6,(G24/3.6+G23/3.6)/2*(E24-E23)+H23)","v":-3.5800000000000014},null,24,false,false,"",false,"",null,"",{"$f":"IF(P24=TRUE,H23,\"\")","v":""}]
[null,{"$f":"IF(((B$6/3.6)-('Dropdown-Daten'!$O$55*E25))*3.6>0,((B$6/3.6)-('Dropdown-Daten'!$O$55*E25))*3.6,0)","v":47.38},{"$f":"IF(B25=0,C24,(E25/2*(B25/3.6+'Dropdown-Daten'!$H$50/3.6)))","v":34.933611111111112},null,1.9,36.705000000000005,{"$f":"IF('Eingabe - Diagramm'!$K$15>=E25,'Dropdown-Daten'!$H$50,(('Dropdown-Daten'!$H$50/3.6)-('Dropdown-Daten'!$O$66*(E25-'Eingabe - Diagramm'!$K$15)))*3.6)","v":63.940000000000005},-1.7713888888888927,null,null,-1.7713888888888927,{"$f":"IF('Eingabe - Diagramm'!$K$15>=E25,E25*(G25/3.6)+H$6,(G25/3.6+G24/3.6)/2*(E25-E24)+H24)","v":-1.7713888888888927},null,25,false,false,"",false,"",null,"",""]
[null,{"$f":"IF(((B$6/3.6)-('Dropdown-Daten'!$O$55*E26))*3.6>0,((B$6/3.6)-('Dropdown-Daten'!$O$55*E26))*3.6,0)","v":45.4},{"$f":"IF(B26=0,C25,(E26/2*(B26/3.6+'Dropdown-Daten'!$H$50/3.6)))","v":36.222222222222221},null,2,36.25,{"$f":"IF('Eingabe - Diagramm'!$K$15>=E26,'Dropdown-Daten'!$H$50,(('Dropdown-Daten'!$H$50/3.6)-('Dropdown-Daten'!$O$66*(E26-'Eingabe - Diagramm'!$K$15)))*3.6)","v":61.6},-2.7777777777780122E-2,null,null,-2.7777777777780122E-2,{"$f":"IF('Eingabe - Diagramm'!$K$15>=E26,E26*(G26/3.6)+H$6,(G26/3.6+G25/3.6)/2*(E26-E25)+H25)","v":-2.7777777777780122E-2},null,26,false,{"$f":"AND(O26=TRUE,O25=FALSE)","v":false},"",false,"",null,"",""]
[null,{"$f":"IF(((B$6/3.6)-('Dropdown-Daten'!$O$55*E27))*3.6>0,((B$6/3.6)-('Dropdown-Daten'!$O$55*E27))*3.6,0)","v":43.419999999999995},{"$f":"IF(B27=0,C26,(E27/2*(B27/3.6+'Dropdown-Daten'!$H$50/3.6)))","v":37.455833333333331},null,2.1,35.805,{"$f":"IF('Eingabe - Diagramm'!$K$15>=E27,'Dropdown-Daten'!$H$50,(('Dropdown-Daten'!$H$50/3.6)-('Dropdown-Daten'!$O$66*(E27-'Eingabe - Diagramm'!$K$15)))*3.6)","v":59.259999999999991},1.6508333333333325,null,null,1.6508333333333325,{"$f":"IF('Eingabe - Diagramm'!$K$15>=E27,E27*(G27/3.6)+H$6,(G27/3.6+G26/3.6)/2*(E27-E26)+H26)","v":1.6508333333333325},null,27,false,false,"",false,"",null,"",""]
[null,{"$f":"IF(((B$6/3.6)-('Dropdown-Daten'!$O$55*E28))*3.6>0,((B$6/3.6)-('Dropdown-Daten'!$O$55*E28))*3.6,0)","v":41.44},{"$f":"IF(B28=0,C27,(E28/2*(B28/3.6+'Dropdown-Daten'!$H$50/3.6)))","v":38.634444444444448},null,2.2000000000000002,35.370000000000005,{"$f":"IF('Eingabe - Diagramm'!$K$15>=E28,'Dropdown-Daten'!$H$50,(('Dropdown-Daten'!$H$50/3.6)-('Dropdown-Daten'!$O$66*(E28-'Eingabe - Diagramm'!$K$15)))*3.6)","v":56.919999999999995},3.2644444444444449,null,null,3.2644444444444449,{"$f":"IF('Eingabe - Diagramm'!$K$15>=E28,E28*(G28/3.6)+H$6,(G28/3.6+G27/3.6)/2*(E28-E27)+H27)","v":3.2644444444444449},null,28,false,false,"",false,"",null,"",""]
[null,{"$f":"IF(((B$6/3.6)-('Dropdown-Daten'!$O$55*E29))*3.6>0,((B$6/3.6)-('Dropdown-Daten'!$O$55*E29))*3.6,0)","v":39.460000000000008},{"$f":"IF(B29=0,C28,(E29/2*(B29/3.6+'Dropdown-Daten'!$H$50/3.6)))","v":39.758055555555551},null,2.2999999999999998,34.945,{"$f":"IF('Eingabe - Diagramm'!$K$15>=E29,'Dropdown-Daten'!$H$50,(('Dropdown-Daten'!$H$50/3.6)-('Dropdown-Daten'!$O$66*(E29-'Eingabe - Diagramm'!$K$15)))*3.6)","v":54.580000000000005},4.8130555555555503,null,null,4.8130555555555503,{"$f":"IF('Eingabe - Diagramm'!$K$15>=E29,E29*(G29/3.6)+H$6,(G29/3.6+G28/3.6)/2*(E29-E28)+H28)","v":4.8130555555555503},null,29,false,false,"",false,"",null,"",""]
[null,{"$f":"IF(((B$6/3.6)-('Dropdown-Daten'!$O$55*E30))*3.6>0,((B$6/3.6)-('Dropdown-Daten'!$O$55*E30))*3.6,0)","v":37.480000000000004},{"$f":"IF(B30=0,C29,(E30/2*(B30/3.6+'Dropdown-Daten'!$H$50/3.6)))","v":40.826666666666668},null,2.4,34.53,{"$f":"IF('Eingabe - Diagramm'!$K$15>=E30,'Dropdown-Daten'!$H$50,(('Dropdown-Daten'!$H$50/3.6)-('Dropdown-Daten'!$O$66*(E30-'Eingabe - Diagramm'!$K$15)))*3.6)","v":52.24},6.2966666666666633,null,null,6.2966666666666633,{"$f":"IF('Eingabe - Diagramm'!$K$15>=E30,E30*(G30/3.6)+H$6,(G30/3.6+G29/3.6)/2*(E30-E29)+H29)","v":6.2966666666666633},null,30,false,false,"",false,"",null,"",""]
[null,{"$f":"IF(((B$6/3.6)-('Dropdown-Daten'!$O$55*E31))*3.6>0,((B$6/3.6)-('Dropdown-Daten'!$O$55*E31))*3.6,0)","v":35.5},{"$f":"IF(B31=0,C30,(E31/2*(B31/3.6+'Dropdown-Daten'!$H$50/3.6)))","v":41.840277777777779},null,2.5,34.125,{"$f":"IF('Eingabe - Diagramm'!$K$15>=E31,'Dropdown-Daten'!$H$50,(('Dropdown-Daten'!$H$50/3.6)-('Dropdown-Daten'!$O$66*(E31-'Eingabe - Diagramm'!$K$15)))*3.6)","v":49.9},{"$f":"IF(G31>0,L31,H30)","v":7.715277777777775},null,null,7.715277777777775,{"$f":"IF('Eingabe - Diagramm'!$K$15>=E31,E31*(G31/3.6)+H$6,(G31/3.6+G30/3.6)/2*(E31-E30)+H30)","v":7.715277777777775},null,31,false,false,"",false,"",null,"",""]
[null,{"$f":"IF(((B$6/3.6)-('Dropdown-Daten'!$O$55*E32))*3.6>0,((B$6/3.6)-('Dropdown-Daten'!$O$55*E32))*3.6,0)","v":33.519999999999996},{"$f":"IF(B32=0,C31,(E32/2*(B32/3.6+'Dropdown-Daten'!$H$50/3.6)))","v":42.798888888888882},null,2.6,33.729999999999997,{"$f":"IF('Eingabe - Diagramm'!$K$15>=E32,'Dropdown-Daten'!$H$50,(('Dropdown-Daten'!$H$50/3.6)-('Dropdown-Daten'!$O$66*(E32-'Eingabe - Diagramm'!$K$15)))*3.6)","v":47.559999999999995},9.0688888888888872,null,null,9.0688888888888872,{"$f":"IF('Eingabe - Diagramm'!$K$15>=E32,E32*(G32/3.6)+H$6,(G32/3.6+G31/3.6)/2*(E32-E31)+H31)","v":9.0688888888888872},null,32,false,false,"",false,"",null,"",""]
[null,{"$f":"IF(((B$6/3.6)-('Dropdown-Daten'!$O$55*E33))*3.6>0,((B$6/3.6)-('Dropdown-Daten'!$O$55*E33))*3.6,0)","v":31.539999999999996},{"$f":"IF(B33=0,C32,(E33/2*(B33/3.6+'Dropdown-Daten'!$H$50/3.6)))","v":43.702500000000001},null,2.7,33.344999999999999,{"$f":"IF('Eingabe - Diagramm'!$K$15>=E33,'Dropdown-Daten'!$H$50,(('Dropdown-Daten'!$H$50/3.6)-('Dropdown-Daten'!$O$66*(E33-'Eingabe - Diagramm'!$K$15)))*3.6)","v":45.22},10.3575,null,null,10.3575,{"$f":"IF('Eingabe - Diagramm'!$K$15>=E33,E33*(G33/3.6)+H$6,(G33/3.6+G32/3.6)/2*(E33-E32)+H32)","v":10.3575},null,33,false,false,"",false,"",null,"",""]
[null,{"$f":"IF(((B$6/3.6)-('Dropdown-Daten'!$O$55*E34))*3.6>0,((B$6/3.6)-('Dropdown-Daten'!$O$55*E34))*3.6,0)","v":29.560000000000006},{"$f":"IF(B34=0,C33,(E34/2*(B34/3.6+'Dropdown-Daten'!$H$50/3.6)))","v":44.551111111111112},null,2.8,32.970000000000006,{"$f":"IF('Eingabe - Diagramm'!$K$15>=E34,'Dropdown-Daten'!$H$50,(('Dropdown-Daten'!$H$50/3.6)-('Dropdown-Daten'!$O$66*(E34-'Eingabe - Diagramm'!$K$15)))*3.6)","v":42.88},11.581111111111106,null,null,11.581111111111106,{"$f":"IF('Eingabe - Diagramm'!$K$15>=E34,E34*(G34/3.6)+H$6,(G34/3.6+G33/3.6)/2*(E34-E33)+H33)","v":11.581111111111106},null,34,false,false,"",false,"",null,"",""]
[null,{"$f":"IF(((B$6/3.6)-('Dropdown-Daten'!$O$55*E35))*3.6>0,((B$6/3.6)-('Dropdown-Daten'!$O$55*E35))*3.6,0)","v":27.580000000000002},{"$f":"IF(B35=0,C34,(E35/2*(B35/3.6+'Dropdown-Daten'!$H$50/3.6)))","v":45.344722222222224},null,2.9,32.605000000000004,{"$f":"IF('Eingabe - Diagramm'!$K$15>=E35,'Dropdown-Daten'!$H$50,(('Dropdown-Daten'!$H$50/3.6)-('Dropdown-Daten'!$O$66*(E35-'Eingabe - Diagramm'!$K$15)))*3.6)","v":40.54},12.739722222222218,null,null,12.739722222222218,{"$f":"IF('Eingabe - Diagramm'!$K$15>=E35,E35*(G35/3.6)+H$6,(G35/3.6+G34/3.6)/2*(E35-E34)+H34)","v":12.739722222222218},null,35,false,false,"",{"$f":"AND(O35=TRUE,O34=FALSE)","v":false},"",null,"",""]
[null,{"$f":"IF(((B$6/3.6)-('Dropdown-Daten'!$O$55*E36))*3.6>0,((B$6/3.6)-('Dropdown-Daten'!$O$55*E36))*3.6,0)","v":25.599999999999998},{"$f":"IF(B36=0,C35,(E36/2*(B36/3.6+'Dropdown-Daten'!$H$50/3.6)))","v":46.083333333333329},null,3,32.25,{"$f":"IF('Eingabe - Diagramm'!$K$15>=E36,'Dropdown-Daten'!$H$50,(('Dropdown-Daten'!$H$50/3.6)-('Dropdown-Daten'!$O$66*(E36-'Eingabe - Diagramm'!$K$15)))*3.6)","v":38.200000000000003},13.83333333333333,null,null,13.83333333333333,{"$f":"IF('Eingabe - Diagramm'!$K$15>=E36,E36*(G36/3.6)+H$6,(G36/3.6+G35/3.6)/2*(E36-E35)+H35)","v":13.83333333333333},null,36,false,false,"",false,"",null,"",""]
[null,{"$f":"IF(((B$6/3.6)-('Dropdown-Daten'!$O$55*E37))*3.6>0,((B$6/3.6)-('Dropdown-Daten'!$O$55*E37))*3.6,0)","v":23.619999999999997},{"$f":"IF(B37=0,C36,(E37/2*(B37/3.6+'Dropdown-Daten'!$H$50/3.6)))","v":46.766944444444441},null,3.1,{"$f":"C37-H37","v":31.904999999999998},{"$f":"IF('Eingabe - Diagramm'!$K$15>=E37,'Dropdown-Daten'!$H$50,(('Dropdown-Daten'!$H$50/3.6)-('Dropdown-Daten'!$O$66*(E37-'Eingabe - Diagramm'!$K$15)))*3.6)","v":35.86},14.861944444444443,null,null,14.861944444444443,{"$f":"IF('Eingabe - Diagramm'!$K$15>=E37,E37*(G37/3.6)+H$6,(G37/3.6+G36/3.6)/2*(E37-E36)+H36)","v":14.861944444444443},null,37,false,{"$f":"AND(O37=TRUE,O36=FALSE)","v":false},"",false,"",null,"",""]
[null,{"$f":"IF(((B$6/3.6)-('Dropdown-Daten'!$O$55*E38))*3.6>0,((B$6/3.6)-('Dropdown-Daten'!$O$55*E38))*3.6,0)","v":21.639999999999993},{"$f":"IF(B38=0,C37,(E38/2*(B38/3.6+'Dropdown-Daten'!$H$50/3.6)))","v":47.395555555555553},null,3.2,31.57,{"$f":"IF('Eingabe - Diagramm'!$K$15>=E38,'Dropdown-Daten'!$H$50,(('Dropdown-Daten'!$H$50/3.6)-('Dropdown-Daten'!$O$66*(E38-'Eingabe - Diagramm'!$K$15)))*3.6)","v":33.519999999999996},15.825555555555555,null,null,{"$f":"IF(G38>0,H38,K37)","v":15.825555555555555},{"$f":"IF('Eingabe - Diagramm'!$K$15>=E38,E38*(G38/3.6)+H$6,(G38/3.6+G37/3.6)/2*(E38-E37)+H37)","v":15.825555555555555},null,38,false,false,"",false,"",null,"",""]
[null,{"$f":"IF(((B$6/3.6)-('Dropdown-Daten'!$O$55*E39))*3.6>0,((B$6/3.6)-('Dropdown-Daten'!$O$55*E39))*3.6,0)","v":19.660000000000004},{"$f":"IF(B39=0,C38,(E39/2*(B39/3.6+'Dropdown-Daten'!$H$50/3.6)))","v":47.969166666666666},null,3.3,31.245000000000005,{"$f":"IF('Eingabe - Diagramm'!$K$15>=E39,'Dropdown-Daten'!$H$50,(('Dropdown-Daten'!$H$50/3.6)-('Dropdown-Daten'!$O$66*(E39-'Eingabe - Diagramm'!$K$15)))*3.6)","v":31.180000000000003},16.724166666666662,null,null,16.724166666666662,{"$f":"IF('Eingabe - Diagramm'!$K$15>=E39,E39*(G39/3.6)+H$6,(G39/3.6+G38/3.6)/2*(E39-E38)+H38)","v":16.724166666666662},null,39,false,false,"",false,"",null,"",""]
[null,{"$f":"IF(((B$6/3.6)-('Dropdown-Daten'!$O$55*E40))*3.6>0,((B$6/3.6)-('Dropdown-Daten'!$O$55*E40))*3.6,0)","v":17.680000000000003},{"$f":"IF(B40=0,C39,(E40/2*(B40/3.6+'Dropdown-Daten'!$H$50/3.6)))","v":48.487777777777779},null,3.4,30.930000000000007,{"$f":"IF('Eingabe - Diagramm'!$K$15>=E40,'Dropdown-Daten'!$H$50,(('Dropdown-Daten'!$H$50/3.6)-('Dropdown-Daten'!$O$66*(E40-'Eingabe - Diagramm'!$K$15)))*3.6)","v":28.84},17.557777777777773,null,null,17.557777777777773,{"$f":"IF('Eingabe - Diagramm'!$K$15>=E40,E40*(G40/3.6)+H$6,(G40/3.6+G39/3.6)/2*(E40-E39)+H39)","v":17.557777777777773},null,40,false,false,"",false,"",null,"",""]
[null,{"$f":"IF(((B$6/3.6)-('Dropdown-Daten'!$O$55*E41))*3.6>0,((B$6/3.6)-('Dropdown-Daten'!$O$55*E41))*3.6,0)","v":15.7},{"$f":"IF(B41=0,C40,(E41/2*(B41/3.6+'Dropdown-Daten'!$H$50/3.6)))","v":48.951388888888886},null,3.5,30.625,{"$f":"IF('Eingabe - Diagramm'!$K$15>=E41,'Dropdown-Daten'!$H$50,(('Dropdown-Daten'!$H$50/3.6)-('Dropdown-Daten'!$O$66*(E41-'Eingabe - Diagramm'!$K$15)))*3.6)","v":26.5},18.326388888888886,null,null,18.326388888888886,{"$f":"IF('Eingabe - Diagramm'!$K$15>=E41,E41*(G41/3.6)+H$6,(G41/3.6+G40/3.6)/2*(E41-E40)+H40)","v":18.326388888888886},null,41,false,false,"",false,"",null,"",""]
[null,{"$f":"IF(((B$6/3.6)-('Dropdown-Daten'!$O$55*E42))*3.6>0,((B$6/3.6)-('Dropdown-Daten'!$O$55*E42))*3.6,0)","v":13.719999999999997},{"$f":"IF(B42=0,C41,(E42/2*(B42/3.6+'Dropdown-Daten'!$H$50/3.6)))","v":49.36},null,3.6,30.330000000000002,{"$f":"IF('Eingabe - Diagramm'!$K$15>=E42,'Dropdown-Daten'!$H$50,(('Dropdown-Daten'!$H$50/3.6)-('Dropdown-Daten'!$O$66*(E42-'Eingabe - Diagramm'!$K$15)))*3.6)","v":24.159999999999993},19.029999999999998,null,null,19.029999999999998,{"$f":"IF('Eingabe - Diagramm'!$K$15>=E42,E42*(G42/3.6)+H$6,(G42/3.6+G41/3.6)/2*(E42-E41)+H41)","v":19.029999999999998},null,42,false,false,"",false,"",null,"",""]
[null,{"$f":"IF(((B$6/3.6)-('Dropdown-Daten'!$O$55*E43))*3.6>0,((B$6/3.6)-('Dropdown-Daten'!$O$55*E43))*3.6,0)","v":11.739999999999993},{"$f":"IF(B43=0,C42,(E43/2*(B43/3.6+'Dropdown-Daten'!$H$50/3.6)))","v":49.713611111111106},null,3.7,30.044999999999998,{"$f":"IF('Eingabe - Diagramm'!$K$15>=E43,'Dropdown-Daten'!$H$50,(('Dropdown-Daten'!$H$50/3.6)-('Dropdown-Daten'!$O$66*(E43-'Eingabe - Diagramm'!$K$15)))*3.6)","v":21.819999999999997},19.668611111111108,null,null,19.668611111111108,{"$f":"IF('Eingabe - Diagramm'!$K$15>=E43,E43*(G43/3.6)+H$6,(G43/3.6+G42/3.6)/2*(E43-E42)+H42)","v":19.668611111111108},null,43,false,false,"",false,"",null,"",""]
[null,{"$f":"IF(((B$6/3.6)-('Dropdown-Daten'!$O$55*E44))*3.6>0,((B$6/3.6)-('Dropdown-Daten'!$O$55*E44))*3.6,0)","v":9.7600000000000033},{"$f":"IF(B44=0,C43,(E44/2*(B44/3.6+'Dropdown-Daten'!$H$50/3.6)))","v":50.012222222222221},null,3.8,29.770000000000003,{"$f":"IF('Eingabe - Diagramm'!$K$15>=E44,'Dropdown-Daten'!$H$50,(('Dropdown-Daten'!$H$50/3.6)-('Dropdown-Daten'!$O$66*(E44-'Eingabe - Diagramm'!$K$15)))*3.6)","v":19.48},20.242222222222217,null,null,20.242222222222217,{"$f":"IF('Eingabe - Diagramm'!$K$15>=E44,E44*(G44/3.6)+H$6,(G44/3.6+G43/3.6)/2*(E44-E43)+H43)","v":20.242222222222217},null,44,false,false,"",false,"",null,"",""]
[null,{"$f":"IF(((B$6/3.6)-('Dropdown-Daten'!$O$55*E45))*3.6>0,((B$6/3.6)-('Dropdown-Daten'!$O$55*E45))*3.6,0)","v":7.7800000000000011},{"$f":"IF(B45=0,C44,(E45/2*(B45/3.6+'Dropdown-Daten'!$H$50/3.6)))","v":50.255833333333335},null,3.9,29.505000000000006,{"$f":"IF('Eingabe - Diagramm'!$K$15>=E45,'Dropdown-Daten'!$H$50,(('Dropdown-Daten'!$H$50/3.6)-('Dropdown-Daten'!$O$66*(E45-'Eingabe - Diagramm'!$K$15)))*3.6)","v":17.140000000000008},20.750833333333329,null,null,20.750833333333329,{"$f":"IF('Eingabe - Diagramm'!$K$15>=E45,E45*(G45/3.6)+H$6,(G45/3.6+G44/3.6)/2*(E45-E44)+H44)","v":20.750833333333329},null,45,false,false,"",false,"",null,"",""]
[null,{"$f":"IF(((B$6/3.6)-('Dropdown-Daten'!$O$55*E46))*3.6>0,((B$6/3.6)-('Dropdown-Daten'!$O$55*E46))*3.6,0)","v":5.7999999999999989},{"$f":"IF(B46=0,C45,(E46/2*(B46/3.6+'Dropdown-Daten'!$H$50/3.6)))","v":50.444444444444443},null,4,29.250000000000004,{"$f":"IF('Eingabe - Diagramm'!$K$15>=E46,'Dropdown-Daten'!$H$50,(('Dropdown-Daten'!$H$50/3.6)-('Dropdown-Daten'!$O$66*(E46-'Eingabe - Diagramm'!$K$15)))*3.6)","v":14.799999999999999},21.194444444444439,null,null,{"$f":"IF(G46>0,H46,K45)","v":21.194444444444439},{"$f":"IF('Eingabe - Diagramm'!$K$15>=E46,E46*(G46/3.6)+H$6,(G46/3.6+G45/3.6)/2*(E46-E45)+H45)","v":21.194444444444439},null,46,false,false,"",{"$f":"AND(O46=TRUE,O45=FALSE)","v":false},"",null,"",""]
[null,{"$f":"IF(((B$6/3.6)-('Dropdown-Daten'!$O$55*E47))*3.6>0,((B$6/3.6)-('Dropdown-Daten'!$O$55*E47))*3.6,0)","v":3.8200000000000087},{"$f":"IF(B47=0,C46,(E47/2*(B47/3.6+'Dropdown-Daten'!$H$50/3.6)))","v":50.578055555555558},null,4.0999999999999996,29.00500000000001,{"$f":"IF('Eingabe - Diagramm'!$K$15>=E47,'Dropdown-Daten'!$H$50,(('Dropdown-Daten'!$H$50/3.6)-('Dropdown-Daten'!$O$66*(E47-'Eingabe - Diagramm'!$K$15)))*3.6)","v":12.460000000000004},21.573055555555548,null,null,21.573055555555548,{"$f":"IF('Eingabe - Diagramm'!$K$15>=E47,E47*(G47/3.6)+H$6,(G47/3.6+G46/3.6)/2*(E47-E46)+H46)","v":21.573055555555548},null,47,false,false,"",false,"",null,"",""]
[null,{"$f":"IF(((B$6/3.6)-('Dropdown-Daten'!$O$55*E48))*3.6>0,((B$6/3.6)-('Dropdown-Daten'!$O$55*E48))*3.6,0)","v":1.8399999999999934},{"$f":"IF(B48=0,C47,(E48/2*(B48/3.6+'Dropdown-Daten'!$H$50/3.6)))","v":50.656666666666666},null,4.2,28.770000000000007,{"$f":"IF('Eingabe - Diagramm'!$K$15>=E48,'Dropdown-Daten'!$H$50,(('Dropdown-Daten'!$H$50/3.6)-('Dropdown-Daten'!$O$66*(E48-'Eingabe - Diagramm'!$K$15)))*3.6)","v":10.119999999999996},21.88666666666666,null,null,21.88666666666666,{"$f":"IF('Eingabe - Diagramm'!$K$15>=E48,E48*(G48/3.6)+H$6,(G48/3.6+G47/3.6)/2*(E48-E47)+H47)","v":21.88666666666666},null,48,false,false,"",false,"",null,"",""]
[null,{"$f":"IF(((B$6/3.6)-('Dropdown-Daten'!$O$55*E49))*3.6>0,((B$6/3.6)-('Dropdown-Daten'!$O$55*E49))*3.6,0)","v":0},{"$f":"IF(B49=0,C48,(E49/2*(B49/3.6+'Dropdown-Daten'!$H$50/3.6)))","v":50.656666666666666},null,4.3,28.521388888888897,{"$f":"IF('Eingabe - Diagramm'!$K$15>=E49,'Dropdown-Daten'!$H$50,(('Dropdown-Daten'!$H$50/3.6)-('Dropdown-Daten'!$O$66*(E49-'Eingabe - Diagramm'!$K$15)))*3.6)","v":7.7800000000000011},22.13527777777777,null,null,22.13527777777777,{"$f":"IF('Eingabe - Diagramm'!$K$15>=E49,E49*(G49/3.6)+H$6,(G49/3.6+G48/3.6)/2*(E49-E48)+H48)","v":22.13527777777777},null,49,false,{"$f":"AND(O49=TRUE,O48=FALSE)","v":false},"",false,"",null,"",""]
[null,{"$f":"IF(((B$6/3.6)-('Dropdown-Daten'!$O$55*E50))*3.6>0,((B$6/3.6)-('Dropdown-Daten'!$O$55*E50))*3.6,0)","v":0},{"$f":"IF(B50=0,C49,(E50/2*(B50/3.6+'Dropdown-Daten'!$H$50/3.6)))","v":50.656666666666666},null,4.4000000000000004,28.337777777777784,{"$f":"IF('Eingabe - Diagramm'!$K$15>=E50,'Dropdown-Daten'!$H$50,(('Dropdown-Daten'!$H$50/3.6)-('Dropdown-Daten'!$O$66*(E50-'Eingabe - Diagramm'!$K$15)))*3.6)","v":5.4399999999999933},22.318888888888882,null,null,22.318888888888882,{"$f":"IF('Eingabe - Diagramm'!$K$15>=E50,E50*(G50/3.6)+H$6,(G50/3.6+G49/3.6)/2*(E50-E49)+H49)","v":22.318888888888882},null,50,false,false,"",false,"",null,"",""]
[null,{"$f":"IF(((B$6/3.6)-('Dropdown-Daten'!$O$55*E51))*3.6>0,((B$6/3.6)-('Dropdown-Daten'!$O$55*E51))*3.6,0)","v":0},{"$f":"IF(B51=0,C50,(E51/2*(B51/3.6+'Dropdown-Daten'!$H$50/3.6)))","v":50.656666666666666},null,4.5,28.219166666666673,{"$f":"IF('Eingabe - Diagramm'!$K$15>=E51,'Dropdown-Daten'!$H$50,(('Dropdown-Daten'!$H$50/3.6)-('Dropdown-Daten'!$O$66*(E51-'Eingabe - Diagramm'!$K$15)))*3.6)","v":3.0999999999999988},22.437499999999993,null,null,22.437499999999993,{"$f":"IF('Eingabe - Diagramm'!$K$15>=E51,E51*(G51/3.6)+H$6,(G51/3.6+G50/3.6)/2*(E51-E50)+H50)","v":22.437499999999993},null,51,false,false,"",false,"",null,"",""]
[null,{"$f":"IF(((B$6/3.6)-('Dropdown-Daten'!$O$55*E52))*3.6>0,((B$6/3.6)-('Dropdown-Daten'!$O$55*E52))*3.6,0)","v":0},{"$f":"IF(B52=0,C51,(E52/2*(B52/3.6+'Dropdown-Daten'!$H$50/3.6)))","v":50.656666666666666},null,4.5999999999999996,28.165555555555564,{"$f":"IF('Eingabe - Diagramm'!$K$15>=E52,'Dropdown-Daten'!$H$50,(('Dropdown-Daten'!$H$50/3.6)-('Dropdown-Daten'!$O$66*(E52-'Eingabe - Diagramm'!$K$15)))*3.6)","v":0.76000000000000367},22.491111111111103,null,null,22.491111111111103,{"$f":"IF('Eingabe - Diagramm'!$K$15>=E52,E52*(G52/3.6)+H$6,(G52/3.6+G51/3.6)/2*(E52-E51)+H51)","v":22.491111111111103},null,52,false,false,"",false,"",null,"",""]
[null,{"$f":"IF(((B$6/3.6)-('Dropdown-Daten'!$O$55*E53))*3.6>0,((B$6/3.6)-('Dropdown-Daten'!$O$55*E53))*3.6,0)","v":0},{"$f":"IF(B53=0,C52,(E53/2*(B53/3.6+'Dropdown-Daten'!$H$50/3.6)))","v":50.656666666666666},null,4.7,28.165555555555564,{"$f":"IF('Eingabe - Diagramm'!$K$15>=E53,'Dropdown-Daten'!$H$50,(('Dropdown-Daten'!$H$50/3.6)-('Dropdown-Daten'!$O$66*(E53-'Eingabe - Diagramm'!$K$15)))*3.6)","v":-1.5800000000000041},{"$f":"IF(G53>0,L53,H52)","v":22.491111111111103},null,null,22.491111111111103,{"$f":"IF('Eingabe - Diagramm'!$K$15>=E53,E53*(G53/3.6)+H$6,(G53/3.6+G52/3.6)/2*(E53-E52)+H52)","v":22.479722222222215},null,53,false,false,"",false,"",null,"",""]
[null,{"$f":"IF(((B$6/3.6)-('Dropdown-Daten'!$O$55*E54))*3.6>0,((B$6/3.6)-('Dropdown-Daten'!$O$55*E54))*3.6,0)","v":0},{"$f":"IF(B54=0,C53,(E54/2*(B54/3.6+'Dropdown-Daten'!$H$50/3.6)))","v":50.656666666666666},null,4.8,{"$f":"C54-H54","v":28.165555555555564},{"$f":"IF('Eingabe - Diagramm'!$K$15>=E54,'Dropdown-Daten'!$H$50,(('Dropdown-Daten'!$H$50/3.6)-('Dropdown-Daten'!$O$66*(E54-'Eingabe - Diagramm'!$K$15)))*3.6)","v":-3.919999999999999},22.491111111111103,null,null,22.491111111111103,{"$f":"IF('Eingabe - Diagramm'!$K$15>=E54,E54*(G54/3.6)+H$6,(G54/3.6+G53/3.6)/2*(E54-E53)+H53)","v":22.414722222222213},null,54,false,false,"",false,"",null,"",""]
[null,{"$f":"IF(((B$6/3.6)-('Dropdown-Daten'!$O$55*E55))*3.6>0,((B$6/3.6)-('Dropdown-Daten'!$O$55*E55))*3.6,0)","v":0},{"$f":"IF(B55=0,C54,(E55/2*(B55/3.6+'Dropdown-Daten'!$H$50/3.6)))","v":50.656666666666666},null,4.9000000000000004,28.165555555555564,{"$f":"IF('Eingabe - Diagramm'!$K$15>=E55,'Dropdown-Daten'!$H$50,(('Dropdown-Daten'!$H$50/3.6)-('Dropdown-Daten'!$O$66*(E55-'Eingabe - Diagramm'!$K$15)))*3.6)","v":-6.2600000000000069},22.491111111111103,null,null,22.491111111111103,{"$f":"IF('Eingabe - Diagramm'!$K$15>=E55,E55*(G55/3.6)+H$6,(G55/3.6+G54/3.6)/2*(E55-E54)+H54)","v":22.349722222222212},null,55,false,false,"",false,"",null,"",""]
[null,{"$f":"IF(((B$6/3.6)-('Dropdown-Daten'!$O$55*E56))*3.6>0,((B$6/3.6)-('Dropdown-Daten'!$O$55*E56))*3.6,0)","v":0},{"$f":"IF(B56=0,C55,(E56/2*(B56/3.6+'Dropdown-Daten'!$H$50/3.6)))","v":50.656666666666666},null,5,28.165555555555564,{"$f":"IF('Eingabe - Diagramm'!$K$15>=E56,'Dropdown-Daten'!$H$50,(('Dropdown-Daten'!$H$50/3.6)-('Dropdown-Daten'!$O$66*(E56-'Eingabe - Diagramm'!$K$15)))*3.6)","v":-8.6000000000000014},22.491111111111103,null,null,22.491111111111103,{"$f":"IF('Eingabe - Diagramm'!$K$15>=E56,E56*(G56/3.6)+H$6,(G56/3.6+G55/3.6)/2*(E56-E55)+H55)","v":22.284722222222214},null,56,false,{"$f":"AND(O56=TRUE,O55=FALSE)","v":false},"",false,"",null,"",""]
[null,{"$f":"IF(((B$6/3.6)-('Dropdown-Daten'!$O$55*E57))*3.6>0,((B$6/3.6)-('Dropdown-Daten'!$O$55*E57))*3.6,0)","v":0},{"$f":"IF(B57=0,C56,(E57/2*(B57/3.6+'Dropdown-Daten'!$H$50/3.6)))","v":50.656666666666666},null,5.0999999999999996,28.165555555555564,{"$f":"IF('Eingabe - Diagramm'!$K$15>=E57,'Dropdown-Daten'!$H$50,(('Dropdown-Daten'!$H$50/3.6)-('Dropdown-Daten'!$O$66*(E57-'Eingabe - Diagramm'!$K$15)))*3.6)","v":-10.939999999999996},22.491111111111103,null,null,22.491111111111103,{"$f":"IF('Eingabe - Diagramm'!$K$15>=E57,E57*(G57/3.6)+H$6,(G57/3.6+G56/3.6)/2*(E57-E56)+H56)","v":22.219722222222213},null,57,false,false,"",false,"",null,"",""]
[null,{"$f":"IF(((B$6/3.6)-('Dropdown-Daten'!$O$55*E58))*3.6>0,((B$6/3.6)-('Dropdown-Daten'!$O$55*E58))*3.6,0)","v":0},{"$f":"IF(B58=0,C57,(E58/2*(B58/3.6+'Dropdown-Daten'!$H$50/3.6)))","v":50.656666666666666},null,5.2,28.165555555555564,{"$f":"IF('Eingabe - Diagramm'!$K$15>=E58,'Dropdown-Daten'!$H$50,(('Dropdown-Daten'!$H$50/3.6)-('Dropdown-Daten'!$O$66*(E58-'Eingabe - Diagramm'!$K$15)))*3.6)","v":-13.280000000000005},22.491111111111103,null,null,22.491111111111103,{"$f":"IF('Eingabe - Diagramm'!$K$15>=E58,E58*(G58/3.6)+H$6,(G58/3.6+G57/3.6)/2*(E58-E57)+H57)","v":22.154722222222212},null,58,false,false,"",false,"",null,"",""]
[null,{"$f":"IF(((B$6/3.6)-('Dropdown-Daten'!$O$55*E59))*3.6>0,((B$6/3.6)-('Dropdown-Daten'!$O$55*E59))*3.6,0)","v":0},{"$f":"IF(B59=0,C58,(E59/2*(B59/3.6+'Dropdown-Daten'!$H$50/3.6)))","v":50.656666666666666},null,5.3,28.165555555555564,{"$f":"IF('Eingabe - Diagramm'!$K$15>=E59,'Dropdown-Daten'!$H$50,(('Dropdown-Daten'!$H$50/3.6)-('Dropdown-Daten'!$O$66*(E59-'Eingabe - Diagramm'!$K$15)))*3.6)","v":-15.62},22.491111111111103,null,null,22.491111111111103,{"$f":"IF('Eingabe - Diagramm'!$K$15>=E59,E59*(G59/3.6)+H$6,(G59/3.6+G58/3.6)/2*(E59-E58)+H58)","v":22.089722222222214},null,59,false,false,"",{"$f":"AND(O59=TRUE,O58=FALSE)","v":false},"",null,"",""]
[null,{"$f":"IF(((B$6/3.6)-('Dropdown-Daten'!$O$55*E60))*3.6>0,((B$6/3.6)-('Dropdown-Daten'!$O$55*E60))*3.6,0)","v":0},{"$f":"IF(B60=0,C59,(E60/2*(B60/3.6+'Dropdown-Daten'!$H$50/3.6)))","v":50.656666666666666},null,5.4,28.165555555555564,{"$f":"IF('Eingabe - Diagramm'!$K$15>=E60,'Dropdown-Daten'!$H$50,(('Dropdown-Daten'!$H$50/3.6)-('Dropdown-Daten'!$O$66*(E60-'Eingabe - Diagramm'!$K$15)))*3.6)","v":-17.960000000000008},22.491111111111103,null,null,22.491111111111103,{"$f":"IF('Eingabe - Diagramm'!$K$15>=E60,E60*(G60/3.6)+H$6,(G60/3.6+G59/3.6)/2*(E60-E59)+H59)","v":22.024722222222213},null,60,false,false,"",false,"",null,"",""]
[null,{"$f":"IF(((B$6/3.6)-('Dropdown-Daten'!$O$55*E61))*3.6>0,((B$6/3.6)-('Dropdown-Daten'!$O$55*E61))*3.6,0)","v":0},{"$f":"IF(B61=0,C60,(E61/2*(B61/3.6+'Dropdown-Daten'!$H$50/3.6)))","v":50.656666666666666},null,5.5,28.165555555555564,{"$f":"IF('Eingabe - Diagramm'!$K$15>=E61,'Dropdown-Daten'!$H$50,(('Dropdown-Daten'!$H$50/3.6)-('Dropdown-Daten'!$O$66*(E61-'Eingabe - Diagramm'!$K$15)))*3.6)","v":-20.3},22.491111111111103,null,null,22.491111111111103,{"$f":"IF('Eingabe - Diagramm'!$K$15>=E61,E61*(G61/3.6)+H$6,(G61/3.6+G60/3.6)/2*(E61-E60)+H60)","v":21.959722222222215},null,61,false,false,"",false,"",null,"",""]
[null,{"$f":"IF(((B$6/3.6)-('Dropdown-Daten'!$O$55*E62))*3.6>0,((B$6/3.6)-('Dropdown-Daten'!$O$55*E62))*3.6,0)","v":0},{"$f":"IF(B62=0,C61,(E62/2*(B62/3.6+'Dropdown-Daten'!$H$50/3.6)))","v":50.656666666666666},null,5.6,28.165555555555564,{"$f":"IF('Eingabe - Diagramm'!$K$15>=E62,'Dropdown-Daten'!$H$50,(('Dropdown-Daten'!$H$50/3.6)-('Dropdown-Daten'!$O$66*(E62-'Eingabe - Diagramm'!$K$15)))*3.6)","v":-22.639999999999997},22.491111111111103,null,null,22.491111111111103,{"$f":"IF('Eingabe - Diagramm'!$K$15>=E62,E62*(G62/3.6)+H$6,(G62/3.6+G61/3.6)/2*(E62-E61)+H61)","v":21.894722222222217},null,62,false,{"$f":"AND(O62=TRUE,O61=FALSE)","v":false},"",false,"",null,"",""]
[null,{"$f":"IF(((B$6/3.6)-('Dropdown-Daten'!$O$55*E63))*3.6>0,((B$6/3.6)-('Dropdown-Daten'!$O$55*E63))*3.6,0)","v":0},{"$f":"IF(B63=0,C62,(E63/2*(B63/3.6+'Dropdown-Daten'!$H$50/3.6)))","v":50.656666666666666},null,5.7,28.165555555555564,{"$f":"IF('Eingabe - Diagramm'!$K$15>=E63,'Dropdown-Daten'!$H$50,(('Dropdown-Daten'!$H$50/3.6)-('Dropdown-Daten'!$O$66*(E63-'Eingabe - Diagramm'!$K$15)))*3.6)","v":-24.980000000000004},22.491111111111103,null,null,22.491111111111103,{"$f":"IF('Eingabe - Diagramm'!$K$15>=E63,E63*(G63/3.6)+H$6,(G63/3.6+G62/3.6)/2*(E63-E62)+H62)","v":21.829722222222209},null,63,false,false,"",false,"",null,"",""]
[null,{"$f":"IF(((B$6/3.6)-('Dropdown-Daten'!$O$55*E64))*3.6>0,((B$6/3.6)-('Dropdown-Daten'!$O$55*E64))*3.6,0)","v":0},{"$f":"IF(B64=0,C63,(E64/2*(B64/3.6+'Dropdown-Daten'!$H$50/3.6)))","v":50.656666666666666},null,5.8,28.165555555555564,{"$f":"IF('Eingabe - Diagramm'!$K$15>=E64,'Dropdown-Daten'!$H$50,(('Dropdown-Daten'!$H$50/3.6)-('Dropdown-Daten'!$O$66*(E64-'Eingabe - Diagramm'!$K$15)))*3.6)","v":-27.32},22.491111111111103,null,null,22.491111111111103,{"$f":"IF('Eingabe - Diagramm'!$K$15>=E64,E64*(G64/3.6)+H$6,(G64/3.6+G63/3.6)/2*(E64-E63)+H63)","v":21.764722222222215},null,64,false,false,"",false,"",null,"",""]
[null,{"$f":"IF(((B$6/3.6)-('Dropdown-Daten'!$O$55*E65))*3.6>0,((B$6/3.6)-('Dropdown-Daten'!$O$55*E65))*3.6,0)","v":0},{"$f":"IF(B65=0,C64,(E65/2*(B65/3.6+'Dropdown-Daten'!$H$50/3.6)))","v":50.656666666666666},null,5.9,28.165555555555564,{"$f":"IF('Eingabe - Diagramm'!$K$15>=E65,'Dropdown-Daten'!$H$50,(('Dropdown-Daten'!$H$50/3.6)-('Dropdown-Daten'!$O$66*(E65-'Eingabe - Diagramm'!$K$15)))*3.6)","v":-29.660000000000007},22.491111111111103,null,null,22.491111111111103,{"$f":"IF('Eingabe - Diagramm'!$K$15>=E65,E65*(G65/3.6)+H$6,(G65/3.6+G64/3.6)/2*(E65-E64)+H64)","v":21.69972222222221},null,65,false,false,"",false,"",null,"",""]
[null,{"$f":"IF(((B$6/3.6)-('Dropdown-Daten'!$O$55*E66))*3.6>0,((B$6/3.6)-('Dropdown-Daten'!$O$55*E66))*3.6,0)","v":0},{"$f":"IF(B66=0,C65,(E66/2*(B66/3.6+'Dropdown-Daten'!$H$50/3.6)))","v":50.656666666666666},null,6,28.165555555555564,{"$f":"IF('Eingabe - Diagramm'!$K$15>=E66,'Dropdown-Daten'!$H$50,(('Dropdown-Daten'!$H$50/3.6)-('Dropdown-Daten'!$O$66*(E66-'Eingabe - Diagramm'!$K$15)))*3.6)","v":-32},22.491111111111103,null,null,22.491111111111103,{"$f":"IF('Eingabe - Diagramm'!$K$15>=E66,E66*(G66/3.6)+H$6,(G66/3.6+G65/3.6)/2*(E66-E65)+H65)","v":21.634722222222216},null,66,false,false,"",false,"",null,"",""]
[null,{"$f":"IF(((B$6/3.6)-('Dropdown-Daten'!$O$55*E67))*3.6>0,((B$6/3.6)-('Dropdown-Daten'!$O$55*E67))*3.6,0)","v":0},{"$f":"IF(B67=0,C66,(E67/2*(B67/3.6+'Dropdown-Daten'!$H$50/3.6)))","v":50.656666666666666},null,6.1,28.165555555555564,{"$f":"IF('Eingabe - Diagramm'!$K$15>=E67,'Dropdown-Daten'!$H$50,(('Dropdown-Daten'!$H$50/3.6)-('Dropdown-Daten'!$O$66*(E67-'Eingabe - Diagramm'!$K$15)))*3.6)","v":-34.339999999999996},22.491111111111103,null,null,22.491111111111103,{"$f":"IF('Eingabe - Diagramm'!$K$15>=E67,E67*(G67/3.6)+H$6,(G67/3.6+G66/3.6)/2*(E67-E66)+H66)","v":21.569722222222218},null,67,false,false,"",false,"",null,"",""]
[null,{"$f":"IF(((B$6/3.6)-('Dropdown-Daten'!$O$55*E68))*3.6>0,((B$6/3.6)-('Dropdown-Daten'!$O$55*E68))*3.6,0)","v":0},{"$f":"IF(B68=0,C67,(E68/2*(B68/3.6+'Dropdown-Daten'!$H$50/3.6)))","v":50.656666666666666},null,6.2,28.165555555555564,{"$f":"IF('Eingabe - Diagramm'!$K$15>=E68,'Dropdown-Daten'!$H$50,(('Dropdown-Daten'!$H$50/3.6)-('Dropdown-Daten'!$O$66*(E68-'Eingabe - Diagramm'!$K$15)))*3.6)","v":-36.680000000000021},22.491111111111103,null,null,22.491111111111103,{"$f":"IF('Eingabe - Diagramm'!$K$15>=E68,E68*(G68/3.6)+H$6,(G68/3.6+G67/3.6)/2*(E68-E67)+H67)","v":21.50472222222221},null,68,false,false,"",false,"",null,"",""]
[null,{"$f":"IF(((B$6/3.6)-('Dropdown-Daten'!$O$55*E69))*3.6>0,((B$6/3.6)-('Dropdown-Daten'!$O$55*E69))*3.6,0)","v":0},{"$f":"IF(B69=0,C68,(E69/2*(B69/3.6+'Dropdown-Daten'!$H$50/3.6)))","v":50.656666666666666},null,6.3,28.165555555555564,{"$f":"IF('Eingabe - Diagramm'!$K$15>=E69,'Dropdown-Daten'!$H$50,(('Dropdown-Daten'!$H$50/3.6)-('Dropdown-Daten'!$O$66*(E69-'Eingabe - Diagramm'!$K$15)))*3.6)","v":-39.019999999999989},22.491111111111103,null,null,22.491111111111103,{"$f":"IF('Eingabe - Diagramm'!$K$15>=E69,E69*(G69/3.6)+H$6,(G69/3.6+G68/3.6)/2*(E69-E68)+H68)","v":21.439722222222219},null,69,false,false,"",false,"",null,"",""]
[null,{"$f":"IF(((B$6/3.6)-('Dropdown-Daten'!$O$55*E70))*3.6>0,((B$6/3.6)-('Dropdown-Daten'!$O$55*E70))*3.6,0)","v":0},{"$f":"IF(B70=0,C69,(E70/2*(B70/3.6+'Dropdown-Daten'!$H$50/3.6)))","v":50.656666666666666},null,6.4,28.165555555555564,{"$f":"IF('Eingabe - Diagramm'!$K$15>=E70,'Dropdown-Daten'!$H$50,(('Dropdown-Daten'!$H$50/3.6)-('Dropdown-Daten'!$O$66*(E70-'Eingabe - Diagramm'!$K$15)))*3.6)","v":-41.360000000000007},22.491111111111103,null,null,{"$f":"IF(G70>0,H70,K69)","v":22.491111111111103},{"$f":"IF('Eingabe - Diagramm'!$K$15>=E70,E70*(G70/3.6)+H$6,(G70/3.6+G69/3.6)/2*(E70-E69)+H69)","v":21.374722222222207},null,70,false,{"$f":"AND(O70=TRUE,O69=FALSE)","v":false},"",false,"",null,{"$f":"IF(P70=TRUE,E69,\"\")","v":""},""]
[null,{"$f":"IF(((B$6/3.6)-('Dropdown-Daten'!$O$55*E71))*3.6>0,((B$6/3.6)-('Dropdown-Daten'!$O$55*E71))*3.6,0)","v":0},{"$f":"IF(B71=0,C70,(E71/2*(B71/3.6+'Dropdown-Daten'!$H$50/3.6)))","v":50.656666666666666},null,6.5,28.165555555555564,{"$f":"IF('Eingabe - Diagramm'!$K$15>=E71,'Dropdown-Daten'!$H$50,(('Dropdown-Daten'!$H$50/3.6)-('Dropdown-Daten'!$O$66*(E71-'Eingabe - Diagramm'!$K$15)))*3.6)","v":-43.7},22.491111111111103,null,null,22.491111111111103,{"$f":"IF('Eingabe - Diagramm'!$K$15>=E71,E71*(G71/3.6)+H$6,(G71/3.6+G70/3.6)/2*(E71-E70)+H70)","v":21.309722222222216},null,71,{"$f":"AND(F71<0)","v":false},false,{"$f":"IF(P71,B71,\"\")","v":""},false,{"$f":"IF(R71=TRUE,G71,\"\")","v":""},null,"",""]
[null,{"$f":"IF(((B$6/3.6)-('Dropdown-Daten'!$O$55*E72))*3.6>0,((B$6/3.6)-('Dropdown-Daten'!$O$55*E72))*3.6,0)","v":0},{"$f":"IF(B72=0,C71,(E72/2*(B72/3.6+'Dropdown-Daten'!$H$50/3.6)))","v":50.656666666666666},null,6.6,{"$f":"C72-H72","v":28.165555555555564},{"$f":"IF('Eingabe - Diagramm'!$K$15>=E72,'Dropdown-Daten'!$H$50,(('Dropdown-Daten'!$H$50/3.6)-('Dropdown-Daten'!$O$66*(E72-'Eingabe - Diagramm'!$K$15)))*3.6)","v":-46.04},{"$f":"IF(G72>0,L72,H71)","v":22.491111111111103},null,null,22.491111111111103,{"$f":"IF('Eingabe - Diagramm'!$K$15>=E72,E72*(G72/3.6)+H$6,(G72/3.6+G71/3.6)/2*(E72-E71)+H71)","v":21.244722222222219},null,{"$f":"IF(O72=FALSE,N71+1)","v":72},false,{"$f":"AND(O72=TRUE,O71=FALSE)","v":false},"",{"$f":"AND(O72=TRUE,O71=FALSE)","v":false},"",null,"",""]
[null,{"$f":"IF(((B$6/3.6)-('Dropdown-Daten'!$O$55*E73))*3.6>0,((B$6/3.6)-('Dropdown-Daten'!$O$55*E73))*3.6,0)","v":0},{"$f":"IF(B73=0,C72,(E73/2*(B73/3.6+'Dropdown-Daten'!$H$50/3.6)))","v":50.656666666666666},null,6.7,28.165555555555564,{"$f":"IF('Eingabe - Diagramm'!$K$15>=E73,'Dropdown-Daten'!$H$50,(('Dropdown-Daten'!$H$50/3.6)-('Dropdown-Daten'!$O$66*(E73-'Eingabe - Diagramm'!$K$15)))*3.6)","v":-48.380000000000017},{"$f":"IF(G73>0,L73,H72)","v":22.491111111111103},null,null,22.491111111111103,{"$f":"IF('Eingabe - Diagramm'!$K$15>=E73,E73*(G73/3.6)+H$6,(G73/3.6+G72/3.6)/2*(E73-E72)+H72)","v":21.179722222222207},null,73,false,false,"",false,"",null,"",""]
[null,{"$f":"IF(((B$6/3.6)-('Dropdown-Daten'!$O$55*E74))*3.6>0,((B$6/3.6)-('Dropdown-Daten'!$O$55*E74))*3.6,0)","v":0},{"$f":"IF(B74=0,C73,(E74/2*(B74/3.6+'Dropdown-Daten'!$H$50/3.6)))","v":50.656666666666666},null,6.8,28.165555555555564,{"$f":"IF('Eingabe - Diagramm'!$K$15>=E74,'Dropdown-Daten'!$H$50,(('Dropdown-Daten'!$H$50/3.6)-('Dropdown-Daten'!$O$66*(E74-'Eingabe - Diagramm'!$K$15)))*3.6)","v":-50.719999999999985},{"$f":"IF(G74>0,L74,H73)","v":22.491111111111103},null,null,22.491111111111103,{"$f":"IF('Eingabe - Diagramm'!$K$15>=E74,E74*(G74/3.6)+H$6,(G74/3.6+G73/3.6)/2*(E74-E73)+H73)","v":21.11472222222222},null,74,false,false,"",{"$f":"AND(O74=TRUE,O73=FALSE)","v":false},"",null,"",""]
[null,{"$f":"IF(((B$6/3.6)-('Dropdown-Daten'!$O$55*E75))*3.6>0,((B$6/3.6)-('Dropdown-Daten'!$O$55*E75))*3.6,0)","v":0},{"$f":"IF(B75=0,C74,(E75/2*(B75/3.6+'Dropdown-Daten'!$H$50/3.6)))","v":50.656666666666666},null,6.9,28.165555555555564,{"$f":"IF('Eingabe - Diagramm'!$K$15>=E75,'Dropdown-Daten'!$H$50,(('Dropdown-Daten'!$H$50/3.6)-('Dropdown-Daten'!$O$66*(E75-'Eingabe - Diagramm'!$K$15)))*3.6)","v":-53.060000000000009},{"$f":"IF(G75>0,L75,H74)","v":22.491111111111103},null,null,22.491111111111103,{"$f":"IF('Eingabe - Diagramm'!$K$15>=E75,E75*(G75/3.6)+H$6,(G75/3.6+G74/3.6)/2*(E75-E74)+H74)","v":21.049722222222208},null,75,false,false,"",false,"",null,"",""]
[null,{"$f":"IF(((B$6/3.6)-('Dropdown-Daten'!$O$55*E76))*3.6>0,((B$6/3.6)-('Dropdown-Daten'!$O$55*E76))*3.6,0)","v":0},{"$f":"IF(B76=0,C75,(E76/2*(B76/3.6+'Dropdown-Daten'!$H$50/3.6)))","v":50.656666666666666},null,7,28.165555555555564,{"$f":"IF('Eingabe - Diagramm'!$K$15>=E76,'Dropdown-Daten'!$H$50,(('Dropdown-Daten'!$H$50/3.6)-('Dropdown-Daten'!$O$66*(E76-'Eingabe - Diagramm'!$K$15)))*3.6)","v":-55.400000000000006},{"$f":"IF(G76>0,L76,H75)","v":22.491111111111103},null,null,22.491111111111103,{"$f":"IF('Eingabe - Diagramm'!$K$15>=E76,E76*(G76/3.6)+H$6,(G76/3.6+G75/3.6)/2*(E76-E75)+H75)","v":20.984722222222217},null,76,false,false,"",false,"",null,"",""]
[null,{"$f":"IF(((B$6/3.6)-('Dropdown-Daten'!$O$55*E77))*3.6>0,((B$6/3.6)-('Dropdown-Daten'!$O$55*E77))*3.6,0)","v":0},{"$f":"IF(B77=0,C76,(E77/2*(B77/3.6+'Dropdown-Daten'!$H$50/3.6)))","v":50.656666666666666},null,7.1,28.165555555555564,{"$f":"IF('Eingabe - Diagramm'!$K$15>=E77,'Dropdown-Daten'!$H$50,(('Dropdown-Daten'!$H$50/3.6)-('Dropdown-Daten'!$O$66*(E77-'Eingabe - Diagramm'!$K$15)))*3.6)","v":-57.739999999999995},22.491111111111103,null,null,22.491111111111103,{"$f":"IF('Eingabe - Diagramm'!$K$15>=E77,E77*(G77/3.6)+H$6,(G77/3.6+G76/3.6)/2*(E77-E76)+H76)","v":20.919722222222219},null,77,false,false,"",false,"",null,"",""]
[null,{"$f":"IF(((B$6/3.6)-('Dropdown-Daten'!$O$55*E78))*3.6>0,((B$6/3.6)-('Dropdown-Daten'!$O$55*E78))*3.6,0)","v":0},{"$f":"IF(B78=0,C77,(E78/2*(B78/3.6+'Dropdown-Daten'!$H$50/3.6)))","v":50.656666666666666},null,7.2,28.165555555555564,{"$f":"IF('Eingabe - Diagramm'!$K$15>=E78,'Dropdown-Daten'!$H$50,(('Dropdown-Daten'!$H$50/3.6)-('Dropdown-Daten'!$O$66*(E78-'Eingabe - Diagramm'!$K$15)))*3.6)","v":-60.08000000000002},22.491111111111103,null,null,22.491111111111103,{"$f":"IF('Eingabe - Diagramm'!$K$15>=E78,E78*(G78/3.6)+H$6,(G78/3.6+G77/3.6)/2*(E78-E77)+H77)","v":20.854722222222204},null,78,false,{"$f":"AND(O78=TRUE,O77=FALSE)","v":false},"",false,"",null,"",""]
[null,{"$f":"IF(((B$6/3.6)-('Dropdown-Daten'!$O$55*E79))*3.6>0,((B$6/3.6)-('Dropdown-Daten'!$O$55*E79))*3.6,0)","v":0},{"$f":"IF(B79=0,C78,(E79/2*(B79/3.6+'Dropdown-Daten'!$H$50/3.6)))","v":50.656666666666666},null,7.3,28.165555555555564,{"$f":"IF('Eingabe - Diagramm'!$K$15>=E79,'Dropdown-Daten'!$H$50,(('Dropdown-Daten'!$H$50/3.6)-('Dropdown-Daten'!$O$66*(E79-'Eingabe - Diagramm'!$K$15)))*3.6)","v":-62.419999999999987},22.491111111111103,null,null,22.491111111111103,{"$f":"IF('Eingabe - Diagramm'!$K$15>=E79,E79*(G79/3.6)+H$6,(G79/3.6+G78/3.6)/2*(E79-E78)+H78)","v":20.78972222222222},null,79,false,{"$f":"AND(O79=TRUE,O78=FALSE)","v":false},"",false,"",null,"",""]
[null,{"$f":"IF(((B$6/3.6)-('Dropdown-Daten'!$O$55*E80))*3.6>0,((B$6/3.6)-('Dropdown-Daten'!$O$55*E80))*3.6,0)","v":0},{"$f":"IF(B80=0,C79,(E80/2*(B80/3.6+'Dropdown-Daten'!$H$50/3.6)))","v":50.656666666666666},null,7.4,28.165555555555564,{"$f":"IF('Eingabe - Diagramm'!$K$15>=E80,'Dropdown-Daten'!$H$50,(('Dropdown-Daten'!$H$50/3.6)-('Dropdown-Daten'!$O$66*(E80-'Eingabe - Diagramm'!$K$15)))*3.6)","v":-64.760000000000005},22.491111111111103,null,null,22.491111111111103,{"$f":"IF('Eingabe - Diagramm'!$K$15>=E80,E80*(G80/3.6)+H$6,(G80/3.6+G79/3.6)/2*(E80-E79)+H79)","v":20.724722222222205},null,80,false,false,"",false,"",null,"",""]
[null,{"$f":"IF(((B$6/3.6)-('Dropdown-Daten'!$O$55*E81))*3.6>0,((B$6/3.6)-('Dropdown-Daten'!$O$55*E81))*3.6,0)","v":0},{"$f":"IF(B81=0,C80,(E81/2*(B81/3.6+'Dropdown-Daten'!$H$50/3.6)))","v":50.656666666666666},null,7.5,28.165555555555564,{"$f":"IF('Eingabe - Diagramm'!$K$15>=E81,'Dropdown-Daten'!$H$50,(('Dropdown-Daten'!$H$50/3.6)-('Dropdown-Daten'!$O$66*(E81-'Eingabe - Diagramm'!$K$15)))*3.6)","v":-67.100000000000009},22.491111111111103,null,null,22.491111111111103,{"$f":"IF('Eingabe - Diagramm'!$K$15>=E81,E81*(G81/3.6)+H$6,(G81/3.6+G80/3.6)/2*(E81-E80)+H80)","v":20.659722222222221},null,{"$f":"IF(O81=FALSE,N80+1)","v":81},{"$f":"AND(F81<0)","v":false},false,"",false,"",null,"",""]
[null,{"$f":"IF(((B$6/3.6)-('Dropdown-Daten'!$O$55*E82))*3.6>0,((B$6/3.6)-('Dropdown-Daten'!$O$55*E82))*3.6,0)","v":0},{"$f":"IF(B82=0,C81,(E82/2*(B82/3.6+'Dropdown-Daten'!$H$50/3.6)))","v":50.656666666666666},null,7.6,28.165555555555564,{"$f":"IF('Eingabe - Diagramm'!$K$15>=E82,'Dropdown-Daten'!$H$50,(('Dropdown-Daten'!$H$50/3.6)-('Dropdown-Daten'!$O$66*(E82-'Eingabe - Diagramm'!$K$15)))*3.6)","v":-69.44},22.491111111111103,null,null,22.491111111111103,{"$f":"IF('Eingabe - Diagramm'!$K$15>=E82,E82*(G82/3.6)+H$6,(G82/3.6+G81/3.6)/2*(E82-E81)+H81)","v":20.59472222222222},null,82,false,false,"",false,"",null,"",""]
[null,{"$f":"IF(((B$6/3.6)-('Dropdown-Daten'!$O$55*E83))*3.6>0,((B$6/3.6)-('Dropdown-Daten'!$O$55*E83))*3.6,0)","v":0},{"$f":"IF(B83=0,C82,(E83/2*(B83/3.6+'Dropdown-Daten'!$H$50/3.6)))","v":50.656666666666666},null,7.7,28.165555555555564,{"$f":"IF('Eingabe - Diagramm'!$K$15>=E83,'Dropdown-Daten'!$H$50,(('Dropdown-Daten'!$H$50/3.6)-('Dropdown-Daten'!$O$66*(E83-'Eingabe - Diagramm'!$K$15)))*3.6)","v":-71.780000000000015},22.491111111111103,null,null,22.491111111111103,{"$f":"IF('Eingabe - Diagramm'!$K$15>=E83,E83*(G83/3.6)+H$6,(G83/3.6+G82/3.6)/2*(E83-E82)+H82)","v":20.529722222222205},null,83,false,false,"",false,"",null,"",""]
[null,{"$f":"IF(((B$6/3.6)-('Dropdown-Daten'!$O$55*E84))*3.6>0,((B$6/3.6)-('Dropdown-Daten'!$O$55*E84))*3.6,0)","v":0},{"$f":"IF(B84=0,C83,(E84/2*(B84/3.6+'Dropdown-Daten'!$H$50/3.6)))","v":50.656666666666666},null,7.8,28.165555555555564,{"$f":"IF('Eingabe - Diagramm'!$K$15>=E84,'Dropdown-Daten'!$H$50,(('Dropdown-Daten'!$H$50/3.6)-('Dropdown-Daten'!$O$66*(E84-'Eingabe - Diagramm'!$K$15)))*3.6)","v":-74.11999999999999},22.491111111111103,null,null,22.491111111111103,{"$f":"IF('Eingabe - Diagramm'!$K$15>=E84,E84*(G84/3.6)+H$6,(G84/3.6+G83/3.6)/2*(E84-E83)+H83)","v":20.464722222222221},null,84,false,false,"",{"$f":"AND(O84=TRUE,O83=FALSE)","v":false},"",null,"",""]
[null,{"$f":"IF(((B$6/3.6)-('Dropdown-Daten'!$O$55*E85))*3.6>0,((B$6/3.6)-('Dropdown-Daten'!$O$55*E85))*3.6,0)","v":0},{"$f":"IF(B85=0,C84,(E85/2*(B85/3.6+'Dropdown-Daten'!$H$50/3.6)))","v":50.656666666666666},null,7.9,28.165555555555564,{"$f":"IF('Eingabe - Diagramm'!$K$15>=E85,'Dropdown-Daten'!$H$50,(('Dropdown-Daten'!$H$50/3.6)-('Dropdown-Daten'!$O$66*(E85-'Eingabe - Diagramm'!$K$15)))*3.6)","v":-76.460000000000008},22.491111111111103,null,null,22.491111111111103,{"$f":"IF('Eingabe - Diagramm'!$K$15>=E85,E85*(G85/3.6)+H$6,(G85/3.6+G84/3.6)/2*(E85-E84)+H84)","v":20.399722222222202},null,85,false,false,"",{"$f":"AND(O85=TRUE,O84=FALSE)","v":false},"",null,"",""]
[null,{"$f":"IF(((B$6/3.6)-('Dropdown-Daten'!$O$55*E86))*3.6>0,((B$6/3.6)-('Dropdown-Daten'!$O$55*E86))*3.6,0)","v":0},{"$f":"IF(B86=0,C85,(E86/2*(B86/3.6+'Dropdown-Daten'!$H$50/3.6)))","v":50.656666666666666},null,8,28.165555555555564,{"$f":"IF('Eingabe - Diagramm'!$K$15>=E86,'Dropdown-Daten'!$H$50,(('Dropdown-Daten'!$H$50/3.6)-('Dropdown-Daten'!$O$66*(E86-'Eingabe - Diagramm'!$K$15)))*3.6)","v":-78.8},22.491111111111103,null,null,22.491111111111103,{"$f":"IF('Eingabe - Diagramm'!$K$15>=E86,E86*(G86/3.6)+H$6,(G86/3.6+G85/3.6)/2*(E86-E85)+H85)","v":20.334722222222222},null,86,false,false,"",{"$f":"AND(O86=TRUE,O85=FALSE)","v":false},"",null,"",""]
[null,null,null,null,null,null,null,null,null,null,null,null,null,{"$f":"MAX(N6:N86)","v":86},null,null,{"$f":"SUM(Q6:Q86)","v":0},{"$f":"SUM(R6:R86)","v":0},{"$f":"SUM(S6:S86)","v":0},null,{"$f":"SUM(U6:U86)","v":0},{"$f":"SUM(V6:V86)","v":0}]
[null,null,null,null,null,null,null,null,null,null,null,null,null,null,null,null,null,null,{"$f":"IF(S87=0,\"\",S87)","v":""},null,{"$f":"IF(U87>0,U87)","v":false},{"$f":"IF(V87>0,V87)","v":false}]
[null,null,null,null,null,null,null,null,null,null,null,null,null,null,null,null,null,{"$f":"IF(S87=0,TRUE,FALSE)","v":true},{"$f":"IF(S88=\"\",#N/A,S87)","v":{"$error":"#N/A"}}]
[]
[]
[]
[]
[]
[null,null,null,null,null,{"$f":"IF($N$87>=6,E6,\"\")","v":0},{"$f":"IF(F95=\"\",#N/A,F95)","v":0}]
[null,null,null,null,null,{"$f":"IF($N$87>=7,E7,\"\")","v":0.1},{"$f":"IF(F96=\"\",#N/A,F96)","v":0.1}]
[null,null,null,null,null,{"$f":"IF($N$87>=8,E8,\"\")","v":0.2},0.2]
[null,null,null,null,null,{"$f":"IF($N$87>=9,E9,\"\")","v":0.3},0.3]
[null,null,null,null,null,{"$f":"IF($N$87>=10,E10,\"\")","v":0.4},0.4]
[null,null,null,null,null,{"$f":"IF($N$87>=11,E11,\"\")","v":0.5},0.5]
[null,null,null,null,null,{"$f":"IF($N$87>=12,E12,\"\")","v":0.6},0.6]
[null,null,null,null,null,{"$f":"IF($N$87>=13,E13,\"\")","v":0.7},0.7]
[null,null,null,null,null,{"$f":"IF($N$87>=14,E14,\"\")","v":0.8},0.8]
[null,null,null,null,null,{"$f":"IF($N$87>=15,E15,\"\")","v":0.9},0.9]
[null,null,null,null,null,{"$f":"IF($N$87>=16,E16,\"\")","v":1},1]
[null,null,null,null,null,{"$f":"IF($N$87>=17,E17,\"\")","v":1.1000000000000001},1.1000000000000001]
[null,null,null,null,null,{"$f":"IF($N$87>=18,E18,\"\")","v":1.2},1.2]
[null,null,null,null,null,{"$f":"IF($N$87>=19,E19,\"\")","v":1.3},1.3]
[null,null,null,null,null,{"$f":"IF($N$87>=20,E20,\"\")","v":1.4},1.4]
[null,null,null,null,null,{"$f":"IF($N$87>=21,E21,\"\")","v":1.5},1.5]
[null,null,null,null,null,{"$f":"IF($N$87>=22,E22,\"\")","v":1.6},1.6]
[null,null,null,null,null,{"$f":"IF($N$87>=23,E23,\"\")","v":1.7},1.7]
[null,null,null,null,null,{"$f":"IF($N$87>=24,E24,\"\")","v":1.8},1.8]
[null,null,null,null,null,{"$f":"IF($N$87>=25,E25,\"\")","v":1.9},1.9]
[null,null,null,null,null,{"$f":"IF($N$87>=26,E26,\"\")","v":2},2]
[null,null,null,null,null,{"$f":"IF($N$87>=27,E27,\"\")","v":2.1},2.1]
[null,null,null,null,null,{"$f":"IF($N$87>=28,E28,\"\")","v":2.2000000000000002},2.2000000000000002]
[null,null,null,null,null,{"$f":"IF($N$87>=29,E29,\"\")","v":2.2999999999999998},2.2999999999999998]
[null,null,null,null,null,{"$f":"IF($N$87>=30,E30,\"\")","v":2.4},2.4]
[null,null,null,null,null,{"$f":"IF($N$87>=31,E31,\"\")","v":2.5},2.5]
[null,null,null,null,null,{"$f":"IF($N$87>=32,E32,\"\")","v":2.6},2.6]
[null,null,null,null,null,{"$f":"IF($N$87>=33,E33,\"\")","v":2.7},2.7]
[null,null,null,null,null,{"$f":"IF($N$87>=34,E34,\"\")","v":2.8},2.8]
[null,null,null,null,null,{"$f":"IF($N$87>=35,E35,\"\")","v":2.9},2.9]
[null,null,null,null,null,{"$f":"IF($N$87>=36,E36,\"\")","v":3},3]
[null,null,null,null,null,{"$f":"IF($N$87>=37,E37,\"\")","v":3.1},3.1]
[null,null,null,null,null,{"$f":"IF($N$87>=38,E38,\"\")","v":3.2},3.2]
[null,null,null,null,null,{"$f":"IF($N$87>=39,E39,\"\")","v":3.3},3.3]
[null,null,null,null,null,{"$f":"IF($N$87>=40,E40,\"\")","v":3.4},3.4]
[null,null,null,null,null,{"$f":"IF($N$87>=41,E41,\"\")","v":3.5},3.5]
[null,null,null,null,null,{"$f":"IF($N$87>=42,E42,\"\")","v":3.6},3.6]
[null,null,null,null,null,{"$f":"IF($N$87>=43,E43,\"\")","v":3.7},3.7]
[null,null,null,null,null,{"$f":"IF($N$87>=44,E44,\"\")","v":3.8},3.8]
[null,null,null,null,null,{"$f":"IF($N$87>=45,E45,\"\")","v":3.9},3.9]
[null,null,null,null,null,{"$f":"IF($N$87>=46,E46,\"\")","v":4},4]
[null,null,null,null,null,{"$f":"IF($N$87>=47,E47,\"\")","v":4.0999999999999996},4.0999999999999996]
[null,null,null,null,null,{"$f":"IF($N$87>=48,E48,\"\")","v":4.2},4.2]
[null,null,null,null,null,{"$f":"IF($N$87>=49,E49,\"\")","v":4.3},4.3]
[null,null,null,null,null,{"$f":"IF($N$87>=50,E50,\"\")","v":4.4000000000000004},4.4000000000000004]
[null,null,null,null,null,{"$f":"IF($N$87>=51,E51,\"\")","v":4.5},4.5]
[null,null,null,null,null,{"$f":"IF($N$87>=52,E52,\"\")","v":4.5999999999999996},4.5999999999999996]
[null,null,null,null,null,{"$f":"IF($N$87>=53,E53,\"\")","v":4.7},4.7]
[null,null,null,null,null,{"$f":"IF($N$87>=54,E54,\"\")","v":4.8},4.8]
[null,null,null,null,null,{"$f":"IF($N$87>=55,E55,\"\")","v":4.9000000000000004},4.9000000000000004]
[null,null,null,null,null,{"$f":"IF($N$87>=56,E56,\"\")","v":5},5]
[null,null,null,null,null,{"$f":"IF($N$87>=57,E57,\"\")","v":5.0999999999999996},5.0999999999999996]
[null,null,null,null,null,{"$f":"IF($N$87>=58,E58,\"\")","v":5.2},5.2]
[null,null,null,null,null,{"$f":"IF($N$87>=59,E59,\"\")","v":5.3},5.3]
[null,null,null,null,null,{"$f":"IF($N$87>=60,E60,\"\")","v":5.4},5.4]
[null,null,null,null,null,{"$f":"IF($N$87>=61,E61,\"\")","v":5.5},5.5]
[null,null,null,null,null,{"$f":"IF($N$87>=62,E62,\"\")","v":5.6},5.6]
[null,null,null,null,null,{"$f":"IF($N$87>=63,E63,\"\")","v":5.7},5.7]
[null,null,null,null,null,{"$f":"IF($N$87>=64,E64,\"\")","v":5.8},5.8]
[null,null,null,null,null,{"$f":"IF($N$87>=65,E65,\"\")","v":5.9},5.9]
[null,null,null,null,null,{"$f":"IF($N$87>=66,E66,\"\")","v":6},6]
[null,null,null,null,null,{"$f":"IF($N$87>=67,E67,\"\")","v":6.1},6.1]
[null,null,null,null,null,{"$f":"IF($N$87>=68,E68,\"\")","v":6.2},6.2]
[null,null,null,null,null,{"$f":"IF($N$87>=69,E69,\"\")","v":6.3},6.3]
[null,null,null,null,null,{"$f":"IF($N$87>=70,E70,\"\")","v":6.4},6.4]
[null,null,null,null,null,{"$f":"IF($N$87>=71,E71,\"\")","v":6.5},{"$f":"IF(F160=\"\",#N/A,F160)","v":6.5}]
[null,null,null,null,null,{"$f":"IF($N$87>=72,E72,\"\")","v":6.6},6.6]
[null,null,null,null,null,{"$f":"IF($N$87>=73,E73,\"\")","v":6.7},6.7]
[null,null,null,null,null,{"$f":"IF($N$87>=74,E74,\"\")","v":6.8},6.8]
[null,null,null,null,null,{"$f":"IF($N$87>=75,E75,\"\")","v":6.9},{"$f":"IF(F164=\"\",#N/A,F164)","v":6.9}]
[null,null,null,null,null,{"$f":"IF($N$87>=76,E76,\"\")","v":7},7]
[null,null,null,null,null,{"$f":"IF($N$87>=77,E77,\"\")","v":7.1},7.1]
[null,null,null,null,null,{"$f":"IF($N$87>=78,E78,\"\")","v":7.2},7.2]
[null,null,null,null,null,{"$f":"IF($N$87>=79,E79,\"\")","v":7.3},7.3]
[null,null,null,null,null,{"$f":"IF($N$87>=80,E80,\"\")","v":7.4},7.4]
[null,null,null,null,null,{"$f":"IF($N$87>=81,E81,\"\")","v":7.5},7.5]
[null,null,null,null,null,{"$f":"IF($N$87>=82,E82,\"\")","v":7.6},7.6]
[null,null,null,null,null,{"$f":"IF($N$87>=83,E83,\"\")","v":7.7},7.7]
[null,null,null,null,null,{"$f":"IF($N$87>=84,E84,\"\")","v":7.8},7.8]
[null,null,null,null,null,{"$f":"IF($N$87>=85,E85,\"\")","v":7.9},7.9]
[null,null,null,null,null,{"$f":"IF($N$87>=86,E86,\"\")","v":8},8]